BEGIN:VCALENDAR
VERSION:2.0
PRODID:-//wp-events-plugin.com//7.2.3.1//EN
TZID:America/Argentina/Buenos_Aires
X-WR-TIMEZONE:America/Argentina/Buenos_Aires
BEGIN:VEVENT
UID:1117@unne.edu.ar
DTSTART;TZID=America/Argentina/Buenos_Aires:20260219T193000
DTEND;TZID=America/Argentina/Buenos_Aires:20260219T193000
DTSTAMP:20260212T131321Z
URL:https://www.unne.edu.ar/agenda/eventos/eudene-en-la-26-feria-del-libro
 -chacu-guarani/
SUMMARY:Eudene en la 26° Feria del Libro Chacú-Guaraní
DESCRIPTION:\n\n\n&nbsp\;\n\nLa programación completa puede consultarse en
  Instagram: @feriadellibro.chacuguarani
ATTACH;FMTTYPE=image/jpeg:https://www.unne.edu.ar/wp-content/uploads/chacu
 _guarani_mozart.jpeg
CATEGORIES:Coordinación de Comunicación
LOCATION:Campus Resistencia\, Av. Las Heras 727\, Resistencia\, Chaco\, 350
 0\, Argentina
X-APPLE-STRUCTURED-LOCATION;VALUE=URI;X-ADDRESS=Av. Las Heras 727\, Resiste
 ncia\, Chaco\, 3500\, Argentina;X-APPLE-RADIUS=100;X-TITLE=Campus Resisten
 cia:geo:0,0
END:VEVENT
BEGIN:VTIMEZONE
TZID:America/Argentina/Buenos_Aires
X-LIC-LOCATION:America/Argentina/Buenos_Aires
BEGIN:STANDARD
DTSTART:20250219T193000
TZOFFSETFROM:-0300
TZOFFSETTO:-0300
TZNAME:-03
END:STANDARD
END:VTIMEZONE
END:VCALENDAR