BEGIN:VCALENDAR
VERSION:2.0
PRODID:-//wp-events-plugin.com//7.2.3.1//EN
TZID:America/Argentina/Buenos_Aires
X-WR-TIMEZONE:America/Argentina/Buenos_Aires
BEGIN:VEVENT
UID:942@unne.edu.ar
DTSTART;TZID=America/Argentina/Buenos_Aires;VALUE=DATE:20251010
DTEND;TZID=America/Argentina/Buenos_Aires;VALUE=DATE:20251013
DTSTAMP:20251003T144037Z
URL:https://www.unne.edu.ar/agenda/eventos/feria-internacional-de-arte-a-3
 62-invocaciones-cesar-tschanz/
SUMMARY:Feria Internacional de Arte a.362: Invocaciones – César Tschanz
DESCRIPTION:Lugar: Club Social Resistencia\, Chaco (Av. Alberdi 283)\n\nDia
 : 10\, 11 y 12 de octubre\n\nHorario: 17 a 23 hs\n\nDestinatarios: Interes
 ados y Público en general.\n\nLa entrada es libre y gratuita.
ATTACH;FMTTYPE=image/jpeg:https://www.unne.edu.ar/wp-content/uploads/Feria
 -A362-Historia.jpg
CATEGORIES:Sec. Gral. de Extensión Universitaria
LOCATION:Club Social Resistencia\, Av. Alberdi 283\, Resistencia\, Chaco\, 
 Argentina
X-APPLE-STRUCTURED-LOCATION;VALUE=URI;X-ADDRESS=Av. Alberdi 283\, Resistenc
 ia\, Chaco\, Argentina;X-APPLE-RADIUS=100;X-TITLE=Club Social Resistencia:
 geo:0,0
END:VEVENT
BEGIN:VTIMEZONE
TZID:America/Argentina/Buenos_Aires
X-LIC-LOCATION:America/Argentina/Buenos_Aires
BEGIN:STANDARD
DTSTART:20241010T000000
TZOFFSETFROM:-0300
TZOFFSETTO:-0300
TZNAME:-03
END:STANDARD
END:VTIMEZONE
END:VCALENDAR