BEGIN:VCALENDAR
VERSION:2.0
PRODID:-//wp-events-plugin.com//7.2.3.1//EN
TZID:America/Argentina/Buenos_Aires
X-WR-TIMEZONE:America/Argentina/Buenos_Aires
BEGIN:VEVENT
UID:413@unne.edu.ar
DTSTART;TZID=America/Argentina/Buenos_Aires:20240905T100000
DTEND;TZID=America/Argentina/Buenos_Aires:20240905T120000
DTSTAMP:20240830T155447Z
URL:https://www.unne.edu.ar/agenda/eventos/grupo-de-percusion-pakipa/
SUMMARY:Grupo de Percusión Pákípá
DESCRIPTION:A cargo de Agustin Gómez\nDónde: salón azul – CCU – có
 rdoba 794\nCuando: miércoles de 10 a 12hs. Dura tres meses. Inicia 5 de 
 septiembre\nDestinatarios: Estudiantes universitarios preferentemente est
 udiantes de la Fac de Humanidades\, Comunicación Social\, Fadycc\, Diseñ
 o Gráfico\, no docentes.\nRequisitos: 14.400$. Para los estudiantes de l
 a UNNE el curso es GRATUITO y deberán presentar la constancia de alumno r
 egular y fotocopia de DNI.  Inscripciones presenciales en el CCU de lunes
  a viernes de 8 a 12 y de 16 a 20hs\nContacto: @ccu.unne \, https://www.u
 nne.edu.ar/extension/ccu
ATTACH;FMTTYPE=image/jpeg:https://www.unne.edu.ar/wp-content/uploads/percu
 sion.png
CATEGORIES:Sec. Gral. de Extensión Universitaria
LOCATION:Centro Cultural Universitario\, Córdoba 798\, Capital\, Corriente
 s\, 3400\, Argentina
X-APPLE-STRUCTURED-LOCATION;VALUE=URI;X-ADDRESS=Córdoba 798\, Capital\, Co
 rrientes\, 3400\, Argentina;X-APPLE-RADIUS=100;X-TITLE=Centro Cultural Uni
 versitario:geo:0,0
END:VEVENT
BEGIN:VTIMEZONE
TZID:America/Argentina/Buenos_Aires
X-LIC-LOCATION:America/Argentina/Buenos_Aires
BEGIN:STANDARD
DTSTART:20230906T100000
TZOFFSETFROM:-0300
TZOFFSETTO:-0300
TZNAME:-03
END:STANDARD
END:VTIMEZONE
END:VCALENDAR