BEGIN:VCALENDAR
VERSION:2.0
PRODID:-//wp-events-plugin.com//7.2.3.1//EN
TZID:America/Argentina/Buenos_Aires
X-WR-TIMEZONE:America/Argentina/Buenos_Aires
BEGIN:VEVENT
UID:900@unne.edu.ar
DTSTART;TZID=America/Argentina/Buenos_Aires:20250821T183000
DTEND;TZID=America/Argentina/Buenos_Aires:20250821T183000
DTSTAMP:20250820T124735Z
URL:https://www.unne.edu.ar/agenda/eventos/inauguracion-del-parque-tecnolo
 gico/
SUMMARY:Inauguración del Parque Tecnológico
DESCRIPTION:
ATTACH;FMTTYPE=image/jpeg:https://www.unne.edu.ar/wp-content/uploads/Inaug
 uracion-del-Parque-Tecnologico.jpeg
CATEGORIES:Gestión UNNE
LOCATION:Campus "Deodoro Roca"\, Av. Libertad 5470\, Capital\, Corrientes\,
  3400\, Argentina
X-APPLE-STRUCTURED-LOCATION;VALUE=URI;X-ADDRESS=Av. Libertad 5470\, Capital
 \, Corrientes\, 3400\, Argentina;X-APPLE-RADIUS=100;X-TITLE=Campus \"Deodo
 ro Roca\":geo:0,0
END:VEVENT
BEGIN:VTIMEZONE
TZID:America/Argentina/Buenos_Aires
X-LIC-LOCATION:America/Argentina/Buenos_Aires
BEGIN:STANDARD
DTSTART:20240821T183000
TZOFFSETFROM:-0300
TZOFFSETTO:-0300
TZNAME:-03
END:STANDARD
END:VTIMEZONE
END:VCALENDAR