BEGIN:VCALENDAR
VERSION:2.0
PRODID:-//wp-events-plugin.com//7.2.3.1//EN
TZID:America/Argentina/Buenos_Aires
X-WR-TIMEZONE:America/Argentina/Buenos_Aires
BEGIN:VEVENT
UID:485@unne.edu.ar
DTSTART;TZID=America/Argentina/Buenos_Aires;VALUE=DATE:20241014
DTEND;TZID=America/Argentina/Buenos_Aires;VALUE=DATE:20241015
DTSTAMP:20241010T150344Z
URL:https://www.unne.edu.ar/agenda/eventos/inscripcion-a-cursos-bimensuale
 s-2/
SUMMARY:Inscripción a Cursos Bimensuales
DESCRIPTION:CURSOS DEL CCN – 2024\nInscripción: Todos/as se inscriben co
 n DNI en Mano - Presencial\nArancelado público en General: 1 cuota de $15
 .000\nGratuito: estudiantes de la UNNE\nModalidad: Presencial\nDuración: 
 Bimensual\nCupo: 5 a 35\n\n&nbsp\;\n\n 	Fotografía Digital\nLuis Schaffer
 \nSábados de 10:00 a 12:00\nFundamentación: El curso aborda los conocimi
 entos técnicos para resolver el adecuado registro fotográfico digital pa
 ra múltiples propósitos. Además\, se desarrollarán metodologías que p
 ermitan descubrir los caminos que llevan de manera creativa a la imagen pe
 nsada.\nEste taller es adecuado para personas que recién comienzan o para
  el aficionado que busca mejorar su base técnica y/o expresiva mediante l
 a fotografía digital.\nSe sugiere profundizar los conocimientos adquirido
 s de este curso con aspectos de composición\, iluminación y retoque digi
 tal.\nObjetivo: Adquirir conocimiento general para el registro fotográfic
 o digital\, uso de equipamiento y manipulación de archivos digitales.\nDe
 stinatarios: Público en general.\nRequisitos: Sin conocimiento previo. Po
 seer cámara compacta\, réflex o celular de gama media/alta con capacidad
  de configuración manual.\nPara acceder a los certificados de finalizaci
 ón y aprobación del Curso\, los cursantes deberán: Responder acertadame
 nte el ochenta por ciento (80 %) de los cuestionarios sobre temas teórico
 s que se les formulen.\nResolver los casos prácticos. Tener el setenta y 
 cinco por ciento (60 %)\, de asistencia a las clases programadas.\n\n&nbsp
 \;\n\n 	Fotografía Digital: Iluminación\nLuis Schaffer\nSábado de 14:00
  a 16:00 \nEl curso aborda los conocimientos técnicos para resolver el ad
 ecuado registro fotográfico en base a los conceptos elementales de la ilu
 minación natural y artificial. Además\, se desarrollarán técnicas que 
 permitan realizar de manera creativa a la imagen pensada.\nEste taller es 
 adecuado para personas que recién comienzan o para el aficionado que busc
 a mejorar su base técnica y/o expresiva mediante el manejo intencional de
  la luz.\nSe sugiere profundizar los conocimientos adquiridos de este curs
 o con aspectos de composición y retoque digital.\nObjetivo:\nIncorporar h
 erramientas para el adecuado uso estratégico de la iluminación con el fi
 n permitir un registro fotográfico óptimo y la creación de imágenes co
 n intención.\nDestinatarios: Público con conocimiento de base en fotogra
 fía.\nRequisitos: Poseer cámara compacta\, réflex o celular de gama med
 ia/alta con capacidad de configuración manual.\nPara acceder a los certif
 icados de finalización y aprobación del Curso\, los cursantes deberán: 
 Responder acertadamente el cien por ciento (80 %) de los cuestionarios sob
 re temas teóricos que se les formulen.\nResolver correctamente los casos 
 prácticos. planteados\, mediante la aplicación de la normativa específi
 ca\; Cumplimentar el setenta y cinco por ciento (80 %)\, de asistencia a l
 as clases programadas.\n\n&nbsp\;\n\n 	Acuarela “La Aguada”\nJavier Ac
 uña - Profesor en artes visuales con orientación en pintura\nSábado de 
 10:00 a 12:00 \nDesde hace milenios el hombre quiso y quiere entender cóm
 o funciona la aguada dentro de la técnica de la acuarela\, y de hecho gra
 ndes artistas a través de la historia entregaron su vida al desarrollo de
  la misma\, pareciera una característica muy común\, lo cual no es así\
 , el manejo de un elemento como el agua\, la cantidad\, tiempo de secado y
  momentos de la humedad\, hacen que esta técnica en particular sea muy de
 safiante y por instantes hasta frustrante\, por ello este curso tiene como
  MISION principal la demostración directa y revelar a medida que pasa el 
 tiempo secretos que hacen al dominio parcial de la aguada y la mancha de c
 olor\, como ELEMENTO FUNDAMENTAL de la antesala de la ACUARELA.\nDestinata
 rios: Adolescentes\, jóvenes y adultos (18 años en adelante)\nRequisitos
 : Tener nociones básicas de dibujo\, pintura o pequeñas experiencias en 
 el area.\n\n&nbsp\;\n\n 	Práctica Integral de Radio\nFabian Rodríguez - 
 Locutor\, Productor musical y Realizador en distintos tipos de programas y
  formatos en medios radiales y televisivos\nMiércoles de 16:00 a 18:00\nE
 l curso concibe que todas las voces sean valiosas y ricas\, y hace enfoque
  en fortalecer las potencialidades de cada una. Para ello\, se despliegan 
 herramientas y conceptos que permiten detectar las particularidades de cad
 a voz y trabajar a partir de ella. El objetivo es desarrollar un perfil de
  locutor/a integral de radio: conocer los estilos de locución para cada g
 énero\; dominar los recursos de la voz\, y las diversas técnicas de lect
 ura\, interpretación\, conducción e improvisación\; adquirir hábitos s
 aludables del aparato respiratorio.\n- Brindar conocimientos iniciales par
 a la producción y realización de contenidos.\n- Lograr un control\, mane
 jo y proyección de la voz respecto al tono\, la velocidad\, el ritmo y la
  intencionalidad.\n- Elaborar contenido en formato de texto\, locución\, 
 grabación y edición.\n- Generar proyectos multimedia para la difusión d
 e diferentes temáticas.\nDestinatarios: Público en General y a quienes t
 engan la intención de dedicarse a la realización de contenidos locutados
  para distintas plataformas o bien para profesionales de áreas técnicas\
 , sociales o educativas que quieran capacitarse en el manejo de esta poder
 osa herramienta comunicacional como complemento de su actividad profesiona
 l.\nRequisitos: Responder acertadamente el sesenta por ciento (60 %) de lo
 s cuestionarios sobre temas teóricos que se les formulen\; Resolver corre
 ctamente los casos prácticos planteados\, mediante la aplicación de la n
 ormativa específica\; Cumplimentar el ochenta por ciento (80 %)\, de asis
 tencia a las clases programadas.\n\n&nbsp\;\n\n 	Creación y producción e
 scénica\nGuadalupe Nera - Directora y diseñadora del Proyecto de formaci
 ón actoral y la dirección teatral del elenco del Teatro universitario de
  la universidad Nacional del Nordeste en el Centro Cultural Nordeste.\nSá
 bado de 10:30 a 12:30\nEl curso de Creación y Producción Escénica: “E
 l teatro llega y se queda” que mueve es instaurar la práctica teatral d
 esde conocimientos\, capacitación y formación que establezcan cimientos 
 firmes en cada lugar que quiera vivenciar el hecho teatral\, no solo “mi
 rar” teatro\, sino que producir y encarnar el mismo\, es decir\, el teat
 ro llega y queda en la experiencia\, producción y creación.\nDestinatari
 os: Estudiantes universitarios\, graduados y profesionales que por sus act
 ividades académicas o laborales necesitan desenvolverse correctamente en 
 público\, sea mediante charlas\, discursos\, conferencias\, exposiciones\
 , presentaciones o clases. A quienes actualmente detecten que poseen bloqu
 eos emocionales que infieren negativamente en su desempeño expresivo como
  puede ser en sus exposiciones orales.\nSe realizará una muestra de talle
 res organizados por los mismos participantes\, utilizando como punto de pa
 rtida las dinámicas y estrategias propuestas durante los encuentros.\nLa 
 devolución de dicho taller se llevara a cabo de manera grupal\, ya que la
  intensión de los guías de este espacio es general e impulsar nuevas din
 ámicas sobre la conciencia artística\, es decir\, que el análisis y cie
 rre del trabajo se evidenciará mediante la puesta.\n\n&nbsp\;\n\n 	Ceremo
 nial y Protocolo. Símbolos patrios\nRolando Andolfi - Formador en Comunic
 ación Social\, Relaciones Públicas\, Ceremonial y Protocolos.\nMartes de
  09:30 a 11:30\nLos rituales\, actos y procedimientos de esta disciplina\,
  se aplican hoy en cualquier ámbito de relación humana. Especialmente de
 licado resulta el dominio de las normas del Ceremonial y de sus formalidad
 es propias en ámbitos de la educación y en la función pública\, donde 
 cotidianamente conviven funcionarios públicos de diversos escalafones jer
 árquicos y administrativos\, docentes\, directivos y jóvenes generacione
 s de alumnos que están moldeando su personalidad y el respeto a las forma
 s y simbolismos que hacen a la vida de relación social y a la propia iden
 tidad cultural de una Nación.  El Curso está dirigido en general\, a cu
 alquier persona interesada en los temas centrales del Ceremonial y el Prot
 ocolo y a quienes\, por su actividad o en razón de su ámbito laboral\, s
 e relacionan estrechamente con la problemática de la gestión protocolar\
 , asumiendo funciones de organización de actos y ceremonias y difundiendo
  y enseñando la historia y los honores que corresponden a Instituciones\,
  Personalidades\, Autoridades y Símbolos oficiales de la Nación y de la 
 Provincia. Responder acertadamente el sesenta por ciento (60 %) de los cue
 stionarios sobre temas teóricos que se les formulen\; Resolver correctame
 nte los casos prácticos planteados\, mediante la aplicación de la normat
 iva específica\; Cumplimentar el ochenta por ciento (80 %)\, de asistenci
 a a las clases programadas.\n\n&nbsp\;\n\n 	Ceremonial y Protocolo. Organi
 zación de actos y eventos Institucionales\nRolando Andolfi - Formador en 
 Comunicación Social\, Relaciones Públicas\, Ceremonial y Protocolos.\nJu
 eves de 09:30 a 11:30\nEn el mundo actual\, el aumento de la actividad gub
 ernamental\, la diversidad de instituciones públicas y privadas y organiz
 aciones de todo tipo\, han contribuido a que surja un gran interés por to
 do lo relacionado con el Ceremonial Organizacional.\nDestinatarios: Cualqu
 iera sea la posición que se ocupa dentro del Organigrama de una Repartici
 ón Pública o de una Empresa o Institución\, tanto las más altas autori
 dades\, funcionarios y ejecutivos\, como sus colaboradores mediatos e inme
 diatos\, pueden organizar\, supervisar\, concurrir o tomar parte de alguna
  manera en diversas manifestaciones públicas de carácter formal.\nPúbli
 co en general\, funcionarios públicos\, personal jerárquico de las Repar
 ticiones del Estado\, Docentes\, Alumnos de Institutos de Educación Terci
 aria y Superior\, Directivos y personal administrativo de establecimientos
  educacionales y profesionales de la actividad privada\, singularmente qui
 enes desempeñen sus tareas ante auditorios o concentración de personas.\
 nRequisitos: Responder acertadamente el sesenta por ciento (60 %) de los c
 uestionarios sobre temas teóricos que se les formulen\; Resolver correcta
 mente los casos prácticos planteados\, mediante la aplicación de la norm
 ativa específica\; Cumplimentar el ochenta por ciento (80 %)\, de asisten
 cia a las clases programadas.\n\n&nbsp\;\n\n 	Lengua de Señas Argentinas 
 I\nLaura Bataglia - Profesora en Educación Especial con orientación en d
 iscapacidad auditiva e Intelectual y técnica en Interpretación de Lengua
 s de Señas Argentinas.\nViernes de 18:00 a 20:00 \nEl objetivo principal 
 del taller es poder ofrecer a la comunidad elementos de comunicación viso
 -gestual\, propia de esta lengua. De esta manera se propone la adquisició
 n de una competencia comunicativa de la lengua de señas argentina.\nLos a
 lumnos irán adquiriendo la lengua de señas y será empleada en sus ámbi
 tos de trabajo\, instituciones\, negocios\, etc. donde haya una persona so
 rda o hipoacúsicos/as (usuarios de LSA) siempre podrán comunicarse con e
 llas\, apropiándose de los conocimientos adquiridos en el taller.\nDestin
 atarios: Comunidad en general\nRequisitos: Cumplir con el 80% de asistenci
 a y la aprobación de un examen integrador final en LSA.\n\n&nbsp\;\n\n 	O
 ratoria. Desempeño en Ámbitos de la Gestión\nDiego Romero - Experto\, a
 sesor político especializado en comunicación\, oratoria y programación 
 neurolingüística.\nMiércoles de 16:00 a 18:00\nEn el ámbito de la gest
 ión\, la oratoria política juega un papel crucial. Este curso se enfoca 
 en desarrollar habilidades específicas para la comunicación efectiva en 
 situaciones políticas y de gestión. Se abordarán estrategias y técnica
 s adaptadas a contextos donde la persuasión\, la negociación y la movili
 zación son fundamentales para alcanzar objetivos y liderar equipos.\nDest
 inatarios: Profesionales\, líderes y personas interesadas en desarrollar 
 habilidades específicas de oratoria política para su desempeño en ámbi
 tos de gestión.\nRequisitos: No se requiere experiencia previa.\n\n&nbsp\
 ;\n\n 	Oratoria. Desempeño Profesional\nDiego Romero - Experto\, asesor p
 olítico especializado en comunicación\, oratoria y programación neuroli
 ngüística.\nMiércoles de 18:00 a 20:00\nEn el entorno profesional\, la 
 habilidad de comunicarse efectivamente es esencial. Este curso busca brind
 ar herramientas específicas para el desempeño en el ámbito laboral\, ha
 ciendo hincapié en la oratoria política como parte integral de la comuni
 cación profesional. Se abordarán aspectos claves como el lenguaje verbal
 \, no verbal y el análisis de la audiencia en contextos profesionales y p
 olíticos.\nProfesionales\, estudiantes y público en general interesado e
 n mejorar sus habilidades de oratoria\, con un enfoque especial en el ámb
 ito profesional y político.\nNo se requiere experiencia previa.\n\n&nbsp\
 ;\n\n 	Redacción Administrativa e Institucional \nNicolas Barrios - Profe
 sor en ciencias de la Educación\, asesor pedagógico\, asesor en equipos 
 técnicos\, pedagógico y educativos en instituciones de gestión pública
  y privada en el nivel Superior no Universitario y en Formación Profesion
 al.\nMiércoles de 09:00 a 11:00\nLa propuesta del curso es brindar las he
 rramientas y técnicas necesarias para optimizar la redacción y lograr co
 municaciones claras y efectivas en el ámbito administrativo\, permitiendo
  mejorar la información hacia dentro y fuera de una institución. Se pret
 ende abordar las reglas fundamentales de la gramática\, las normas lingü
 ísticas actuales y la normativa de la redacción\, en especial orientada 
 a los documentos administrativos.\nDestinatarios: Estudiantes\, graduados\
 , profesionales\, líderes y personas interesadas en desarrollar habilidad
 es específicas al desempeño vinculado a la redacción escrita en ámbito
 s de gestión.\nRequisitos: No se requieren saberes previos. Poseer conect
 ividad y los recursos tecnológicos para acceder y operar en el Campus Vir
 tual\n\n&nbsp\;
CATEGORIES:Sec. Gral. de Extensión Universitaria
LOCATION:Centro Cultural Nordeste\, Arturo Illia 355\, Resistencia\, Chaco\
 , 3500\, Argentina
X-APPLE-STRUCTURED-LOCATION;VALUE=URI;X-ADDRESS=Arturo Illia 355\, Resisten
 cia\, Chaco\, 3500\, Argentina;X-APPLE-RADIUS=100;X-TITLE=Centro Cultural 
 Nordeste:geo:0,0
END:VEVENT
BEGIN:VTIMEZONE
TZID:America/Argentina/Buenos_Aires
X-LIC-LOCATION:America/Argentina/Buenos_Aires
BEGIN:STANDARD
DTSTART:20231015T000000
TZOFFSETFROM:-0300
TZOFFSETTO:-0300
TZNAME:-03
END:STANDARD
END:VTIMEZONE
END:VCALENDAR