BEGIN:VCALENDAR
VERSION:2.0
PRODID:-//wp-events-plugin.com//7.2.3.1//EN
TZID:America/Argentina/Buenos_Aires
X-WR-TIMEZONE:America/Argentina/Buenos_Aires
BEGIN:VEVENT
UID:888@unne.edu.ar
DTSTART;TZID=America/Argentina/Buenos_Aires;VALUE=DATE:20250701
DTEND;TZID=America/Argentina/Buenos_Aires;VALUE=DATE:20250702
DTSTAMP:20250630T140038Z
URL:https://www.unne.edu.ar/agenda/eventos/inscripciones-a-la-diplomatura-
 universitaria-en-produccion-audiovisual/
SUMMARY:Inscripciones a la Diplomatura Universitaria en Producción Audiovi
 sual
DESCRIPTION:Inicio: 11 de agosto \nCurso: Arancelado. \nPúblico gra.l: Mat
 ricula 30 mil / 4 cuotas de 50 / Total: 230 mil\nEstudiantes: Matricula 30
  mil / 3 cuotas de 50 mil / Total 180 mil\nInscripciones por SIU Guaraní 
 a partir del Martes 1/07/2025\nUno de sus principales Objetivos es Generar
  un ámbito de formación específica sobre desarrollo y gestión de proye
 ctos audiovisuales para el fortalecimiento de la comunidad artística en l
 os actuales escenarios locales\, regionales e internacionales.\nCuenta con
  una carga horaria total de 200 horas\nTiene una duración de Cinco (5) me
 ses\, con dos (2) encuentros mensuales\nAlgunos de sus contenidos son: Int
 roducción a la Industria Audiovisual\, Elaboración y Desarrollo de proye
 ctos\, Propuestas narrativas y estéticas\, Puesta en escena\, fotografía
 \, montaje y postproducción\; Producción: armado de carpeta\, presupuest
 o\, aspectos legales.\nOrganiza: Convenio entre Centro Cultural Nordeste d
 e la Secretaría General de Extensión Universitaria – Instituto de Arte
 s Audiovisuales de Misiones IAAviM. \nInformación: diploaudiovisualccn@gm
 ail.com
CATEGORIES:Sec. Gral. de Extensión Universitaria
END:VEVENT
BEGIN:VTIMEZONE
TZID:America/Argentina/Buenos_Aires
X-LIC-LOCATION:America/Argentina/Buenos_Aires
BEGIN:STANDARD
DTSTART:20240701T000000
TZOFFSETFROM:-0300
TZOFFSETTO:-0300
TZNAME:-03
END:STANDARD
END:VTIMEZONE
END:VCALENDAR