BEGIN:VCALENDAR
VERSION:2.0
PRODID:-//wp-events-plugin.com//7.2.3.1//EN
TZID:America/Argentina/Buenos_Aires
X-WR-TIMEZONE:America/Argentina/Buenos_Aires
BEGIN:VEVENT
UID:895@unne.edu.ar
DTSTART;TZID=America/Argentina/Buenos_Aires;VALUE=DATE:20250805
DTEND;TZID=America/Argentina/Buenos_Aires;VALUE=DATE:20250816
DTSTAMP:20250805T115324Z
URL:https://www.unne.edu.ar/agenda/eventos/inscripciones-abiertas-del-depa
 rtamento-de-idiomas-modernos/
SUMMARY:Inscripciones Abiertas del Departamento de Idiomas Modernos
DESCRIPTION:👉 Del 5 al 15 de agosto podés inscribirte a:\n✅ Cursos vi
 rtuales: aprendé a tu ritmo y desde donde estés.\n✅ Cursos de lectocom
 prensión presenciales: mejorá tu comprensión en un entorno dinámico y 
 colaborativo.\nElegí el idioma que querés aprender\, consultá los curso
 s disponibles y empezá a transformar tu futuro.\n\n📩 Consultas: idioma
 s@comunidad.unne.edu.ar\n🔗 Inscripciones abiertas por el SIU Guaraní 
 ».
ATTACH;FMTTYPE=image/jpeg:https://www.unne.edu.ar/wp-content/uploads/DIM_2
 doperiodo2.jpeg
CATEGORIES:Sec. Gral. de Extensión Universitaria
LOCATION:https://bio.site/unneidiomas?fbclid=PAZXh0bgNhZW0CMTEAAaf1AMd5m8kI
 oe5J3axq_7aFKxVquiPPKjOLV4CwjEjUUBn6v_m-DYCsXtimFg_aem_iGe6fook2YfhOTJ-hn6
 ZFg
END:VEVENT
BEGIN:VTIMEZONE
TZID:America/Argentina/Buenos_Aires
X-LIC-LOCATION:America/Argentina/Buenos_Aires
BEGIN:STANDARD
DTSTART:20240805T000000
TZOFFSETFROM:-0300
TZOFFSETTO:-0300
TZNAME:-03
END:STANDARD
END:VTIMEZONE
END:VCALENDAR