BEGIN:VCALENDAR
VERSION:2.0
PRODID:-//wp-events-plugin.com//7.2.3.1//EN
TZID:America/Argentina/Buenos_Aires
X-WR-TIMEZONE:America/Argentina/Buenos_Aires
BEGIN:VEVENT
UID:495@unne.edu.ar
DTSTART;TZID=America/Argentina/Buenos_Aires;VALUE=DATE:20241028
DTEND;TZID=America/Argentina/Buenos_Aires;VALUE=DATE:20241029
DTSTAMP:20241024T150025Z
URL:https://www.unne.edu.ar/agenda/eventos/introduccion-a-la-orientacion-v
 ocacional-en-los-nuevos-contextos-educativos/
SUMMARY:Introducción a la Orientación Vocacional en los Nuevos Contextos 
 Educativos
DESCRIPTION: \n\nSi sos docente o estudiante\, este curso te brindará her
 ramientas para guiar a otros en su proceso de orientación vocacional. Apr
 ende estrategias de intervención y reflexión para acompañar mejor a tus
  estudiantes en su toma de decisiones.\n\n&nbsp\;\n\nPLATAFORMA: MOOC - Cu
 rso virtual AUTOGESTIONADO\nORGANIZA: Secretaría General de Extensión Un
 iversitaria – Dpto. De Orientación Vocacional y Ocupacional.\nINICIO: 2
 8 de octubre 2024\nDURACIÓN: 4 Semanas - CARGA HORARIA: 20 hs.\nDESTINATA
 RIOS: Docentes y preceptores de los dos últimos años del nivel medio. Es
 tudiantes de los dos últimos años de Carreras de profesorados del nivel 
 superior\nterciario y universitario.\nCONTACTO: cursosmooc.uv@comunidad.un
 ne.edu.ar\nCOORDINADORAS: Prof. Esp. Silvia Rach - Lic. María Macarena S
 ánchez\nDOCENTES: Lic. Maia Navas - Karina González
ATTACH;FMTTYPE=image/jpeg:https://www.unne.edu.ar/wp-content/uploads/Nuevo
 s-Contextos-Educativos.png
CATEGORIES:Sec. Gral. Académica,Sec. Gral. de Extensión Universitaria
LOCATION:https://bit.ly/O_Voc
END:VEVENT
BEGIN:VTIMEZONE
TZID:America/Argentina/Buenos_Aires
X-LIC-LOCATION:America/Argentina/Buenos_Aires
BEGIN:STANDARD
DTSTART:20231029T000000
TZOFFSETFROM:-0300
TZOFFSETTO:-0300
TZNAME:-03
END:STANDARD
END:VTIMEZONE
END:VCALENDAR