BEGIN:VCALENDAR
VERSION:2.0
PRODID:-//wp-events-plugin.com//7.2.3.1//EN
TZID:America/Argentina/Buenos_Aires
X-WR-TIMEZONE:America/Argentina/Buenos_Aires
BEGIN:VEVENT
UID:905@unne.edu.ar
DTSTART;TZID=America/Argentina/Buenos_Aires:20251103T000000
DTEND;TZID=America/Argentina/Buenos_Aires:20251104T000000
DTSTAMP:20250821T125820Z
URL:https://www.unne.edu.ar/agenda/eventos/iv-congreso-internacional-de-ag
 ua-ambiente-y-energia/
SUMMARY:IV Congreso Internacional de Agua\, Ambiente y Energía
DESCRIPTION:San Miguel de Tucumán - Argentina\n\n \n\nhttps://www.instagr
 am.com/agua.ambiente.energia.iv/\nWeb del Congreso: https://lets.4.events
 /iv-congreso-internacional-de-agua-ambiente-y-energia-de-augm-C23100E21
ATTACH;FMTTYPE=image/jpeg:https://www.unne.edu.ar/wp-content/uploads/Jorna
 daAgua.png
LOCATION:https://lets.4.events/iv-congreso-internacional-de-agua-ambiente-y
 -energia-de-augm-C23100E21
END:VEVENT
BEGIN:VTIMEZONE
TZID:America/Argentina/Buenos_Aires
X-LIC-LOCATION:America/Argentina/Buenos_Aires
BEGIN:STANDARD
DTSTART:20241103T000000
TZOFFSETFROM:-0300
TZOFFSETTO:-0300
TZNAME:-03
END:STANDARD
END:VTIMEZONE
END:VCALENDAR