BEGIN:VCALENDAR
VERSION:2.0
PRODID:-//wp-events-plugin.com//7.2.3.1//EN
TZID:America/Argentina/Buenos_Aires
X-WR-TIMEZONE:America/Argentina/Buenos_Aires
BEGIN:VEVENT
UID:997@unne.edu.ar
DTSTART;TZID=America/Argentina/Buenos_Aires:20251112T080000
DTEND;TZID=America/Argentina/Buenos_Aires:20251115T080000
DTSTAMP:20251111T131546Z
URL:https://www.unne.edu.ar/agenda/eventos/iv-encuentro-nacional-de-restau
 racion-ecologica-argentina-ii-simposio-internacional-de-practicas-de-resta
 uracion-ecologica/
SUMMARY:IV Encuentro Nacional de Restauración Ecológica Argentina. II Sim
 posio Internacional de Prácticas de Restauración Ecológica
DESCRIPTION:Tenemos el agrado de invitarlos e invitarlas a participar del 
 II Simposio internacional de Prácticas de Restauración Ecológica y IV
  Encuentro Nacional de Restauración Ecológica de la Argentina\, que se r
 ealizarán entre el 12 y el 15 de noviembre de 2025\, en el a Facultad de
  Ciencias Exactas y Naturales y Agrimensura (Universidad Nacional del Nord
 este) de la Ciudad de Corrientes\, Argentina.
ATTACH;FMTTYPE=image/jpeg:https://www.unne.edu.ar/wp-content/uploads/enrea
 2025.png
CATEGORIES:Gestión UNNE
LOCATION:https://enrea.com.ar
END:VEVENT
BEGIN:VTIMEZONE
TZID:America/Argentina/Buenos_Aires
X-LIC-LOCATION:America/Argentina/Buenos_Aires
BEGIN:STANDARD
DTSTART:20241112T080000
TZOFFSETFROM:-0300
TZOFFSETTO:-0300
TZNAME:-03
END:STANDARD
END:VTIMEZONE
END:VCALENDAR