BEGIN:VCALENDAR
VERSION:2.0
PRODID:-//wp-events-plugin.com//7.2.3.1//EN
TZID:America/Argentina/Buenos_Aires
X-WR-TIMEZONE:America/Argentina/Buenos_Aires
BEGIN:VEVENT
UID:374@unne.edu.ar
DTSTART;TZID=America/Argentina/Buenos_Aires:20240816T180000
DTEND;TZID=America/Argentina/Buenos_Aires:20240816T180000
DTSTAMP:20240808T114815Z
URL:https://www.unne.edu.ar/agenda/eventos/jornada-aportes-de-la-academia-
 y-las-ciencias-juridicas-desafios-actuales-de-la-justicia/
SUMMARY:Jornada "Aportes de la Academia y las Ciencias Jurídicas - Desafí
 os actuales de la justicia"
DESCRIPTION:
ATTACH;FMTTYPE=image/jpeg:https://www.unne.edu.ar/wp-content/uploads/Estev
 ez-IA-UNNE2-600x400-sOQTbu.jpeg
CATEGORIES:Sec. Gral. de Legal y Técnica
LOCATION:Edificio Histórico - Facultad de Derecho y Ciencias Sociales y Po
 líticas\, Salta 459\, Corrientes\, Corrientes\, 3400\, Argentina
X-APPLE-STRUCTURED-LOCATION;VALUE=URI;X-ADDRESS=Salta 459\, Corrientes\, Co
 rrientes\, 3400\, Argentina;X-APPLE-RADIUS=100;X-TITLE=Edificio Histórico
  - Facultad de Derecho y Ciencias Sociales y Políticas:geo:0,0
END:VEVENT
BEGIN:VTIMEZONE
TZID:America/Argentina/Buenos_Aires
X-LIC-LOCATION:America/Argentina/Buenos_Aires
BEGIN:STANDARD
DTSTART:20230817T180000
TZOFFSETFROM:-0300
TZOFFSETTO:-0300
TZNAME:-03
END:STANDARD
END:VTIMEZONE
END:VCALENDAR