BEGIN:VCALENDAR
VERSION:2.0
PRODID:-//wp-events-plugin.com//7.2.3.1//EN
TZID:America/Argentina/Buenos_Aires
X-WR-TIMEZONE:America/Argentina/Buenos_Aires
BEGIN:VEVENT
UID:1138@unne.edu.ar
DTSTART;TZID=America/Argentina/Buenos_Aires:20260319T083000
DTEND;TZID=America/Argentina/Buenos_Aires:20260319T123000
DTSTAMP:20260317T114554Z
URL:https://www.unne.edu.ar/agenda/eventos/jornada-conmemorativa-del-dia-i
 nternacional-de-los-bosques-y-del-dia-mundial-del-clima/
SUMMARY:Jornada Conmemorativa del Día Internacional de los Bosques y del D
 ía Mundial del Clima
DESCRIPTION:La Facultad de Ciencias Agrarias de la UNNE invita a la comunid
 ad a participar de una Jornada Conmemorativa por el Día Internacional de 
 los Bosques y el Día Mundial del Clima\, proclamados por la Organización
  de las Naciones Unidas y que se conmemoran el 21 y 26 de marzo respectiva
 mente. Organizada por la Comisión de Asesoramiento y Gestión del Arboret
 um FCA.\n\nLa actividad tiene como objetivo generar un espacio de encuentr
 o\, reflexión y aprendizaje sobre la importancia de los bosques y el clim
 a en el desarrollo sostenible\, así como promover la conciencia ambiental
  y el compromiso con prácticas más amigables con el ambiente.\n\nEn el m
 arco del lema 2026 “Bosques y economías”\, la jornada propone destac
 ar el rol fundamental de los bosques como impulsores de la prosperidad eco
 nómica\, sostén de la agricultura familiar y aliados clave para la produ
 ctividad agrícola. Asimismo\, se abordará la temática climática con el
  fin de sensibilizar sobre cómo las acciones humanas influyen en la varia
 ción del clima y sobre la necesidad de adoptar hábitos responsables que 
 contribuyan al cuidado del planeta.\n\nDurante el encuentro se desarrollar
 án charlas abiertas al público\, conversatorios y actividades de capacit
 ación\, además de un recorrido ambiental guiado por el Arboretum de la F
 CA UNNE\, espacio que funciona como refugio de biodiversidad de flora nati
 va y ejemplo de las acciones institucionales orientadas a la preservación
  del ambiente y a la promoción de prácticas agrícolas sustentables.\n\n
 En esta oportunidad también se realizará la presentación del Libro Digi
 tal “Guía de usos y descripción del arbolado urbano de la ciudad de Co
 rrientes”\, editado por Claudia Luna y María Laura Fontana\, resultado 
 de un trabajo articulado entre la cátedra de Silvicultura de la FCA UNNE 
 y la Municipalidad de la ciudad de Corrientes.\n\nLa jornada contará con 
 exposiciones de especialistas que abordarán distintas perspectivas sobre 
 bosques y clima\, y culminará con el Arbore-Tour\, un recorrido interpret
 ativo por el Arboretum destinado a conocer la biodiversidad del lugar\, se
 guido de la plantación simbólica de un árbol como cierre del evento.\n\
 nLa actividad es abierta y gratuita\, destinada a estudiantes\, docentes\,
  profesionales\, instituciones y público en general interesado en la tem
 ática ambiental.\n\n📅 Fecha: jueves 19 de marzo\n\n🕘 Horario: de 8:
 30 a 12:30\n\n📍 Lugar: Arboretum – Campo Didáctico Experimental - Fa
 cultad de Ciencias Agrarias\, UNNE
CATEGORIES:Facultad de Ciencias Agrarias
LOCATION:https://www.agr.unne.edu.ar/index.php/comunidad/noticias-fca/jorna
 da-conmemorativa-del-dia-internacional-de-los-bosques-y-del-dia-mundial-de
 l-clima
END:VEVENT
BEGIN:VTIMEZONE
TZID:America/Argentina/Buenos_Aires
X-LIC-LOCATION:America/Argentina/Buenos_Aires
BEGIN:STANDARD
DTSTART:20250319T083000
TZOFFSETFROM:-0300
TZOFFSETTO:-0300
TZNAME:-03
END:STANDARD
END:VTIMEZONE
END:VCALENDAR