BEGIN:VCALENDAR
VERSION:2.0
PRODID:-//wp-events-plugin.com//7.2.3.1//EN
TZID:America/Argentina/Buenos_Aires
X-WR-TIMEZONE:America/Argentina/Buenos_Aires
BEGIN:VEVENT
UID:811@unne.edu.ar
DTSTART;TZID=America/Argentina/Buenos_Aires:20250520T093000
DTEND;TZID=America/Argentina/Buenos_Aires:20250520T110000
DTSTAMP:20250519T152705Z
URL:https://www.unne.edu.ar/agenda/eventos/jornada-de-capacitacion-sobre-e
 l-regimen-de-contrataciones-2/
SUMMARY:Jornada de capacitación sobre el régimen de contrataciones
DESCRIPTION:Tema de la Jornada:\nEl Régimen General\, desde la Evaluación
  y el informe técnico\, la adjudicación\, pagos y recepción\n\nHorario:
 \n9:30 a 10:30 hs. y de 11:00 a 12:30 hs.\n\nModalidad: Presencial\n\nLug
 ar: Facultad de Odontología (FOUNNE - UNNE) Av. Libertad 5450\, Corriente
 s.\n\nDisertantes:\n\nTéc. Yolanda Román\, Cra. Virginia Affur.\n\nInvit
 ados: Cra. Virginia Gorodner\, Abg. Ricardo Franchini\, Abg. M. de las Nie
 ves Riera Stival\, Cra. Valeria Cardozo\, Cra. Josefina Soto.\n\nInscripci
 ón: A través de SIU-Guaraní\n\nOrganiza: Equipo Técnico Interdiscipli
 nario\n\n· Secretaría General Administrativa\n\n· Secretaría General L
 egal y Técnica\n\n· Secretaría General de Planeamiento\,\n\n· Unidad d
 e Auditoría Interna de la UNNE\n\n· Representantes de la Facultad de Cie
 ncias Agrarias\, Facultad de Odontología y Facultad de Ciencias Exactas y
  Naturales y Agrimensura.
CATEGORIES:Gestión UNNE
LOCATION:https://guarani3.unne.edu.ar/g3w/
END:VEVENT
BEGIN:VTIMEZONE
TZID:America/Argentina/Buenos_Aires
X-LIC-LOCATION:America/Argentina/Buenos_Aires
BEGIN:STANDARD
DTSTART:20240520T093000
TZOFFSETFROM:-0300
TZOFFSETTO:-0300
TZNAME:-03
END:STANDARD
END:VTIMEZONE
END:VCALENDAR