BEGIN:VCALENDAR
VERSION:2.0
PRODID:-//wp-events-plugin.com//7.2.3.1//EN
TZID:America/Argentina/Buenos_Aires
X-WR-TIMEZONE:America/Argentina/Buenos_Aires
BEGIN:VEVENT
UID:809@unne.edu.ar
DTSTART;TZID=America/Argentina/Buenos_Aires:20250513T093000
DTEND;TZID=America/Argentina/Buenos_Aires:20250513T110000
DTSTAMP:20250512T143130Z
URL:https://www.unne.edu.ar/agenda/eventos/jornada-de-capacitacion-sobre-e
 l-regimen-de-contrataciones/
SUMMARY:Jornada de capacitación sobre el régimen de contrataciones
DESCRIPTION:Tema de la Jornada:\nEl Régimen General\, desde la convocatori
 a hasta la apertura de ofertas. Intervención del servicio jurídico perma
 nente.\n\nHorario:\n9:30 a 10:30 hs. y de 11:00 a 12:30 hs.\n\nModalidad:
  Presencial\n\nLugar: Facultad de Artes\, Diseño y Ciencias de la Cultu
 ra (FADyCC - UNNE) Av. Castelli 1300\, Resistencia\, Chaco\n\nOrganiza:  
 Equipo Técnico Interdisciplinario\n\n·         Secretaría Gene
 ral Administrativa\n\n·         Secretaría General Legal y Téc
 nica\n\n·         Secretaría General de Planeamiento\,\n\n· 
         Unidad de Auditoría Interna de la UNNE\n\n·      
    Representantes de la Facultad de Ciencias Agrarias\, Facultad de Odo
 ntología y Facultad de Ciencias Exactas y Naturales y Agrimensura.
ATTACH;FMTTYPE=image/jpeg:https://www.unne.edu.ar/wp-content/uploads/Capac
 itacion-Contrataciones-.jpeg
CATEGORIES:Gestión UNNE
LOCATION:https://guarani3.unne.edu.ar/g3w/
END:VEVENT
BEGIN:VTIMEZONE
TZID:America/Argentina/Buenos_Aires
X-LIC-LOCATION:America/Argentina/Buenos_Aires
BEGIN:STANDARD
DTSTART:20240513T093000
TZOFFSETFROM:-0300
TZOFFSETTO:-0300
TZNAME:-03
END:STANDARD
END:VTIMEZONE
END:VCALENDAR