BEGIN:VCALENDAR
VERSION:2.0
PRODID:-//wp-events-plugin.com//7.2.3.1//EN
TZID:America/Argentina/Buenos_Aires
X-WR-TIMEZONE:America/Argentina/Buenos_Aires
BEGIN:VEVENT
UID:945@unne.edu.ar
DTSTART;TZID=America/Argentina/Buenos_Aires:20251015T190000
DTEND;TZID=America/Argentina/Buenos_Aires:20251015T190000
DTSTAMP:20251009T112441Z
URL:https://www.unne.edu.ar/agenda/eventos/jornada-sobre-visibilizacion-de
 l-trabajo-infantil/
SUMMARY:Jornada sobre "Visibilización del Trabajo Infantil"
DESCRIPTION:La Facultad de Derecho y Ciencias Sociales y Políticas de la U
 niversidad Nacional del Nordeste invita a la Jornada Académica\, Científ
 ica y de Extensión "Visibilización del Trabajo Infantil".\n\nLa activida
 d se realizará el martes 15 de octubre a las 19 hs. en el Aula Magna (Edi
 ficio Histórico\, Salta 459).\n\nEl evento incluirá la presentación del
  libro "El trabajo Infantil en la Argentina. Fundamentos para su erradicac
 ión" a cargo de su autora\, la Prof. Dra. Daniela Gómez Carelli\, junto 
 a la Prof. Dra. Mónica Anís y el Decano\, Dr. Mario R. Villegas.\n\nDest
 inado a la comunidad académica\, científica y público en general. La en
 trada es gratuita.
ATTACH;FMTTYPE=image/jpeg:https://www.unne.edu.ar/wp-content/uploads/Jorna
 da-sobre-Visibilizacion-del-Trabajo-Infantil.jpeg
CATEGORIES:Facultad de Derecho y Ciencias Sociales y Políticas
LOCATION:Edificio Histórico - Facultad de Derecho y Ciencias Sociales y Po
 líticas\, Salta 459\, Corrientes\, Corrientes\, 3400\, Argentina
X-APPLE-STRUCTURED-LOCATION;VALUE=URI;X-ADDRESS=Salta 459\, Corrientes\, Co
 rrientes\, 3400\, Argentina;X-APPLE-RADIUS=100;X-TITLE=Edificio Histórico
  - Facultad de Derecho y Ciencias Sociales y Políticas:geo:0,0
END:VEVENT
BEGIN:VTIMEZONE
TZID:America/Argentina/Buenos_Aires
X-LIC-LOCATION:America/Argentina/Buenos_Aires
BEGIN:STANDARD
DTSTART:20241015T190000
TZOFFSETFROM:-0300
TZOFFSETTO:-0300
TZNAME:-03
END:STANDARD
END:VTIMEZONE
END:VCALENDAR