BEGIN:VCALENDAR
VERSION:2.0
PRODID:-//wp-events-plugin.com//7.2.3.1//EN
TZID:America/Argentina/Buenos_Aires
X-WR-TIMEZONE:America/Argentina/Buenos_Aires
BEGIN:VEVENT
UID:911@unne.edu.ar
DTSTART;TZID=America/Argentina/Buenos_Aires:20250909T150000
DTEND;TZID=America/Argentina/Buenos_Aires:20250909T150000
DTSTAMP:20250901T122347Z
URL:https://www.unne.edu.ar/agenda/eventos/la-catedra-de-chamame-del-ccu-l
 lega-a-la-facultad-de-humanidades/
SUMMARY:La Cátedra de Chamamé del CCU llega a la Facultad de Humanidades
DESCRIPTION:La actividad se realiza el martes 9 de septiembre a la 15hs en 
 la Facultad de Humanidades\, avenida Las Heras 727 – Resistencia.\n\n&nb
 sp\;
ATTACH;FMTTYPE=image/jpeg:https://www.unne.edu.ar/wp-content/uploads/Cated
 raChamame-1.jpeg
CATEGORIES:Sec. Gral. de Extensión Universitaria
LOCATION:https://www.unne.edu.ar/extension/novedad.php?uid=1470361e85bc6470
 3696f808fd44469e
END:VEVENT
BEGIN:VTIMEZONE
TZID:America/Argentina/Buenos_Aires
X-LIC-LOCATION:America/Argentina/Buenos_Aires
BEGIN:STANDARD
DTSTART:20240909T150000
TZOFFSETFROM:-0300
TZOFFSETTO:-0300
TZNAME:-03
END:STANDARD
END:VTIMEZONE
END:VCALENDAR