BEGIN:VCALENDAR
VERSION:2.0
PRODID:-//wp-events-plugin.com//7.2.3.1//EN
TZID:America/Argentina/Buenos_Aires
X-WR-TIMEZONE:America/Argentina/Buenos_Aires
BEGIN:VEVENT
UID:434@unne.edu.ar
DTSTART;TZID=America/Argentina/Buenos_Aires:20240925T200000
DTEND;TZID=America/Argentina/Buenos_Aires:20240925T220000
DTSTAMP:20240920T135850Z
URL:https://www.unne.edu.ar/agenda/eventos/la-milonga-de-primavera-en-el-c
 cu/
SUMMARY:La Milonga de primavera en el CCU
DESCRIPTION:Dónde: Salón Azul – Centro Cultural Universitario – Cór
 doba 794\n\nCuando: miércoles 25 de septiembre de 20 a 22hs\n\nDestinata
 rios: Estudiantes universitarios preferentemente estudiantes de la Fac de
  Humanidades\, Comunicación Social\, Fadycc\, Diseño Gráfico\, no docen
 tes.\n\nEntrada libre y gratuita.\n\nContacto: @ccu.unne \, https://www.un
 ne.edu.ar/extension/ccu\n
ATTACH;FMTTYPE=image/jpeg:https://www.unne.edu.ar/wp-content/uploads/milon
 gaprimavera.jpg
CATEGORIES:Sec. Gral. de Extensión Universitaria
LOCATION:Centro Cultural Universitario\, Córdoba 798\, Capital\, Corriente
 s\, 3400\, Argentina
X-APPLE-STRUCTURED-LOCATION;VALUE=URI;X-ADDRESS=Córdoba 798\, Capital\, Co
 rrientes\, 3400\, Argentina;X-APPLE-RADIUS=100;X-TITLE=Centro Cultural Uni
 versitario:geo:0,0
END:VEVENT
BEGIN:VTIMEZONE
TZID:America/Argentina/Buenos_Aires
X-LIC-LOCATION:America/Argentina/Buenos_Aires
BEGIN:STANDARD
DTSTART:20230926T200000
TZOFFSETFROM:-0300
TZOFFSETTO:-0300
TZNAME:-03
END:STANDARD
END:VTIMEZONE
END:VCALENDAR