BEGIN:VCALENDAR
VERSION:2.0
PRODID:-//wp-events-plugin.com//7.2.3.1//EN
TZID:America/Argentina/Buenos_Aires
X-WR-TIMEZONE:America/Argentina/Buenos_Aires
BEGIN:VEVENT
UID:1115@unne.edu.ar
DTSTART;TZID=America/Argentina/Buenos_Aires:20260316T090000
DTEND;TZID=America/Argentina/Buenos_Aires:20260316T090000
DTSTAMP:20260212T130108Z
URL:https://www.unne.edu.ar/agenda/eventos/masterclass-internacional-en-la
 -fau-unne-con-francesco-zurlo/
SUMMARY:Masterclass internacional en la FAU UNNE con Francesco Zurlo para D
 ocentes y Profesionales
DESCRIPTION:La Licenciatura en Diseño Industrial – FAU UNNE presenta una
  Masterclass con Francesco Zurlo\, Decano de la Escuela de Diseño del Pol
 itecnico di Milano\, referente global en diseño estratégico\, innovació
 n e impacto ecológico.\n\nUna experiencia de formación y reflexión sobr
 e:\n♻️ Diseño estratégico\n💡 Innovación y pensamiento sistémico
 \n🌱 Impacto ambiental y bienestar humano\n🚀 Desafíos contemporáneo
 s de las industrias creativas\n\nUna oportunidad única para escuchar a un
 a de las voces más influyentes del diseño contemporáneo.\n\n🔗 Inscri
 pción: https://www.arq.unne.edu.ar/masterclass-zurlo/\n💸 Evento Gratui
 to\n📍 Auditorio FAU UNNE – Las Heras 737\, Resistencia\, Chaco\n\n
 📌 DOCENTES Y PROFESIONALES\n🗓 16/03/2026\n🕘 9:00 a 11:00 h y 17:0
 0 a 19:00 h\n\n📌 ESTUDIANTES\n🗓 17/03/2026\n🕘 9:00 a 11:00 h y 17
 :00 a 19:00 h
ATTACH;FMTTYPE=image/jpeg:https://www.unne.edu.ar/wp-content/uploads/maste
 rclass.jpg
CATEGORIES:Facultad de Arquitectura y Urbanismo
LOCATION:Campus Resistencia\, Av. Las Heras 727\, Resistencia\, Chaco\, 350
 0\, Argentina
X-APPLE-STRUCTURED-LOCATION;VALUE=URI;X-ADDRESS=Av. Las Heras 727\, Resiste
 ncia\, Chaco\, 3500\, Argentina;X-APPLE-RADIUS=100;X-TITLE=Campus Resisten
 cia:geo:0,0
END:VEVENT
BEGIN:VTIMEZONE
TZID:America/Argentina/Buenos_Aires
X-LIC-LOCATION:America/Argentina/Buenos_Aires
BEGIN:STANDARD
DTSTART:20250316T090000
TZOFFSETFROM:-0300
TZOFFSETTO:-0300
TZNAME:-03
END:STANDARD
END:VTIMEZONE
END:VCALENDAR