BEGIN:VCALENDAR
VERSION:2.0
PRODID:-//wp-events-plugin.com//7.2.3.1//EN
TZID:America/Argentina/Buenos_Aires
X-WR-TIMEZONE:America/Argentina/Buenos_Aires
BEGIN:VEVENT
UID:1058@unne.edu.ar
DTSTART;TZID=America/Argentina/Buenos_Aires;VALUE=DATE:20251205
DTEND;TZID=America/Argentina/Buenos_Aires;VALUE=DATE:20251217
DTSTAMP:20251128T135112Z
URL:https://www.unne.edu.ar/agenda/eventos/muestra-escultorica-huellas-de-
 arcilla-santiago-guarnieri/
SUMMARY:Muestra Escultórica ‘’ Huellas de Arcilla” – Santiago Guar
 nieri
DESCRIPTION:Lugar: Sala Iván Sagarduy CCN - Arturo Illia 355. Resistencia.
  Chaco\nDia: 05 al 16 de diciembre\nHorario: de 9:00 a 12:00hs y de 16:00 
 a 21:00hs\nDestinatarios: Interesados y Público en general.\nLa entrada e
 s libre y gratuita.\n
ATTACH;FMTTYPE=image/jpeg:https://www.unne.edu.ar/wp-content/uploads/Muest
 ra-Huellas-de-arcilla.jpg
CATEGORIES:Sec. Gral. de Extensión Universitaria
LOCATION:Centro Cultural Nordeste\, Arturo Illia 355\, Resistencia\, Chaco\
 , 3500\, Argentina
X-APPLE-STRUCTURED-LOCATION;VALUE=URI;X-ADDRESS=Arturo Illia 355\, Resisten
 cia\, Chaco\, 3500\, Argentina;X-APPLE-RADIUS=100;X-TITLE=Centro Cultural 
 Nordeste:geo:0,0
END:VEVENT
BEGIN:VTIMEZONE
TZID:America/Argentina/Buenos_Aires
X-LIC-LOCATION:America/Argentina/Buenos_Aires
BEGIN:STANDARD
DTSTART:20241205T000000
TZOFFSETFROM:-0300
TZOFFSETTO:-0300
TZNAME:-03
END:STANDARD
END:VTIMEZONE
END:VCALENDAR