BEGIN:VCALENDAR
VERSION:2.0
PRODID:-//wp-events-plugin.com//7.2.3.1//EN
TZID:America/Argentina/Buenos_Aires
X-WR-TIMEZONE:America/Argentina/Buenos_Aires
BEGIN:VEVENT
UID:1130@unne.edu.ar
DTSTART;TZID=America/Argentina/Buenos_Aires:20260305T090000
DTEND;TZID=America/Argentina/Buenos_Aires:20260305T090000
DTSTAMP:20260309T145234Z
URL:https://www.unne.edu.ar/agenda/eventos/muestra-la-sombra-del-vacio-lui
 s-bernardi/
SUMMARY:Muestra ‘’ La sombra del vacío” – Luis Bernardi
DESCRIPTION:Lugar: Sala Iván Sagarduy CCN - Arturo Illia 355. Resistencia.
  Chaco\n\nDia:  05 al 31 de marzo\n\nHorario: de 9:00 a 13:00hs y de 16:0
 0 a 21:00hs\n\nDestinatarios: Interesados y Público en general.\nLa entra
 da es libre y gratuita.
ATTACH;FMTTYPE=image/jpeg:https://www.unne.edu.ar/wp-content/uploads/Luis-
 Bernardi-Post.jpg
CATEGORIES:Sec. Gral. de Extensión Universitaria
LOCATION:Centro Cultural Nordeste\, Arturo Illia 355\, Resistencia\, Chaco\
 , 3500\, Argentina
X-APPLE-STRUCTURED-LOCATION;VALUE=URI;X-ADDRESS=Arturo Illia 355\, Resisten
 cia\, Chaco\, 3500\, Argentina;X-APPLE-RADIUS=100;X-TITLE=Centro Cultural 
 Nordeste:geo:0,0
END:VEVENT
BEGIN:VTIMEZONE
TZID:America/Argentina/Buenos_Aires
X-LIC-LOCATION:America/Argentina/Buenos_Aires
BEGIN:STANDARD
DTSTART:20250305T090000
TZOFFSETFROM:-0300
TZOFFSETTO:-0300
TZNAME:-03
END:STANDARD
END:VTIMEZONE
END:VCALENDAR