BEGIN:VCALENDAR
VERSION:2.0
PRODID:-//wp-events-plugin.com//7.2.3.1//EN
TZID:America/Argentina/Buenos_Aires
X-WR-TIMEZONE:America/Argentina/Buenos_Aires
BEGIN:VEVENT
UID:492@unne.edu.ar
DTSTART;TZID=America/Argentina/Buenos_Aires:20241022T190000
DTEND;TZID=America/Argentina/Buenos_Aires:20241022T190000
DTSTAMP:20241018T171452Z
URL:https://www.unne.edu.ar/agenda/eventos/nueva-charla-del-taller-de-cort
 ometraje-%f0%9d%91%ac%f0%9d%92%8d-%f0%9d%92%85%f0%9d%92%90%f0%9d%92%84%f0%
 9d%92%96%f0%9d%92%8e%f0%9d%92%86%f0%9d%92%8f%f0%9d%92%95%f0%9d%92%82%f0%9d
 %92%8d-%f0%9d%92%96/
SUMMARY:Charla gratuita: “El documental”\, una mirada arriesgada. Aprox
 imaciones\, formas\, herramientas posibles por Sebastián “Chapu” Toba
DESCRIPTION:Dónde: Salón de Parquet (CCU- Córdoba 794 )\nCuando: marte
 s 22 a las19hs\nDestinatarios: Estudiantes universitarios preferentemente
  estudiantes de la Fac de Humanidades\, Comunicación Social\, Fadycc\, Di
 seño Gráfico\, no docentes.\n&nbsp\;\n\nEntrada libre y gratuita.\n\nCon
 tacto: @ccu.unne \, https://www.unne.edu.ar/extension/ccu\n\n&nbsp\;
ATTACH;FMTTYPE=image/jpeg:https://www.unne.edu.ar/wp-content/uploads/Charl
 a_Cortometrajes.jpg
CATEGORIES:Sec. Gral. de Extensión Universitaria
LOCATION:Centro Cultural Universitario\, Córdoba 798\, Capital\, Corriente
 s\, 3400\, Argentina
X-APPLE-STRUCTURED-LOCATION;VALUE=URI;X-ADDRESS=Córdoba 798\, Capital\, Co
 rrientes\, 3400\, Argentina;X-APPLE-RADIUS=100;X-TITLE=Centro Cultural Uni
 versitario:geo:0,0
END:VEVENT
BEGIN:VTIMEZONE
TZID:America/Argentina/Buenos_Aires
X-LIC-LOCATION:America/Argentina/Buenos_Aires
BEGIN:STANDARD
DTSTART:20231023T190000
TZOFFSETFROM:-0300
TZOFFSETTO:-0300
TZNAME:-03
END:STANDARD
END:VTIMEZONE
END:VCALENDAR