BEGIN:VCALENDAR
VERSION:2.0
PRODID:-//wp-events-plugin.com//7.2.3.1//EN
TZID:America/Argentina/Buenos_Aires
X-WR-TIMEZONE:America/Argentina/Buenos_Aires
BEGIN:VEVENT
UID:795@unne.edu.ar
DTSTART;TZID=America/Argentina/Buenos_Aires:20250509T200000
DTEND;TZID=America/Argentina/Buenos_Aires:20250509T200000
DTSTAMP:20250505T130928Z
URL:https://www.unne.edu.ar/agenda/eventos/nueva-exposicion-en-la-sala-del
 -sol-del-ccu-n%f0%9d%90%9ee-%f0%9d%90%ab%f0%9d%90%9a%f0%9d%90%a2%f0%9d%90%
 ad%f0%9d%90%b2/
SUMMARY:Nueva exposición en la Sala del Sol del CCU Ñ𝐞’ẽ 𝐫𝐚
 𝐢𝐭𝐲
DESCRIPTION:Un grupo de artistas independientes de la localidad de Corrient
 es se reúnen en torno a una búsqueda común 𝒆𝒙𝒑𝒍𝒐𝒓𝒂
 𝒓 𝒚 𝒆𝒙𝒑𝒓𝒆𝒔𝒂𝒓\, 𝒅𝒆𝒔𝒅𝒆 𝒅𝒊
 𝒗𝒆𝒓𝒔𝒐𝒔 𝒍𝒆𝒏𝒈𝒖𝒂𝒋𝒆𝒔 𝒂𝒓𝒕
 í𝒔𝒕𝒊𝒄𝒐𝒔\,𝒂𝒔𝒑𝒆𝒄𝒕𝒐𝒔 𝒗𝒊𝒏
 𝒄𝒖𝒍𝒂𝒅𝒐𝒔 𝒂 𝒍𝒂 𝒄𝒖𝒍𝒕𝒖𝒓𝒂 
 𝒈𝒖𝒂𝒓𝒂𝒏í.\n📆 Inauguración viernes 9 de mayo.\n⏰ 20
  hs.\n📍 #SaladelSol Córdoba esquina 9 de Julio\n\n¡Te esperamos!\n\nM
 ás Información »
ATTACH;FMTTYPE=image/jpeg:https://www.unne.edu.ar/wp-content/uploads/ExpoN
 eeRaty.jpeg
CATEGORIES:Sec. Gral. de Extensión Universitaria
LOCATION:Centro Cultural Universitario\, Córdoba 798\, Capital\, Corriente
 s\, 3400\, Argentina
X-APPLE-STRUCTURED-LOCATION;VALUE=URI;X-ADDRESS=Córdoba 798\, Capital\, Co
 rrientes\, 3400\, Argentina;X-APPLE-RADIUS=100;X-TITLE=Centro Cultural Uni
 versitario:geo:0,0
END:VEVENT
BEGIN:VTIMEZONE
TZID:America/Argentina/Buenos_Aires
X-LIC-LOCATION:America/Argentina/Buenos_Aires
BEGIN:STANDARD
DTSTART:20240509T200000
TZOFFSETFROM:-0300
TZOFFSETTO:-0300
TZNAME:-03
END:STANDARD
END:VTIMEZONE
END:VCALENDAR