BEGIN:VCALENDAR
VERSION:2.0
PRODID:-//wp-events-plugin.com//7.2.3.1//EN
TZID:America/Argentina/Buenos_Aires
X-WR-TIMEZONE:America/Argentina/Buenos_Aires
BEGIN:VEVENT
UID:471@unne.edu.ar
DTSTART;TZID=America/Argentina/Buenos_Aires:20241004T093000
DTEND;TZID=America/Argentina/Buenos_Aires:20241004T093000
DTSTAMP:20241004T160341Z
URL:https://www.unne.edu.ar/agenda/eventos/octubre-urbano-2/
SUMMARY:Octubre Urbano
DESCRIPTION:Como todos los años\, la UNNE se adhiere al “Octubre Urbano 
 2024” implementado por Naciones Unidas-Hábitat\, realizando actividades
  durante todo el mes a través de las Facultades y Centros\; coordinado po
 r la CoDeSTE y el CeGAE.\n\nEl lema de este año es “Una ciudad mejor\, 
 una vida mejor”\, y estará vinculado a las economías urbanas resilient
 es: las ciudades como motores del crecimiento y la recuperación y\, a inv
 olucrar a los jóvenes para crear un mejor futuro urbano\, apuntando a for
 mar a la juventud para liderar la acción climática y local para las ciud
 ades.\n\nProducción y utilización del compost\nLugar: Salón de la Refor
 ma - Facultad de Ingeniería – Campus Resistencia\nOrganiza:  Instituto
  Agrotécnico “Pedro M. Fuentes Godo”\nIng. Agr. (Dra.) María Corina 
 Leconte e Ing. Agr. (Mgter) Sebastián Carnicer\n\nCharla enmarcada dentro
  del “Ciclo de conferencias del IAGRO”\n\n&nbsp\;\n\nDestinatarios/as:
  Comunidad de la UNNE y Público General\nContacto: cegae@unne.edu.ar\nre
 des sociales: IG: @cegaeunne Facebook: Cegae Unne
ATTACH;FMTTYPE=image/jpeg:https://www.unne.edu.ar/wp-content/uploads/Octub
 reUrbano.jpg
LOCATION:http://www.unne.edu.ar/wp-content/uploads/programa_OU-2024.pdf
END:VEVENT
BEGIN:VTIMEZONE
TZID:America/Argentina/Buenos_Aires
X-LIC-LOCATION:America/Argentina/Buenos_Aires
BEGIN:STANDARD
DTSTART:20231005T093000
TZOFFSETFROM:-0300
TZOFFSETTO:-0300
TZNAME:-03
END:STANDARD
END:VTIMEZONE
END:VCALENDAR