BEGIN:VCALENDAR
VERSION:2.0
PRODID:-//wp-events-plugin.com//7.2.3.1//EN
TZID:America/Argentina/Buenos_Aires
X-WR-TIMEZONE:America/Argentina/Buenos_Aires
BEGIN:VEVENT
UID:477@unne.edu.ar
DTSTART;TZID=America/Argentina/Buenos_Aires:20241022T090000
DTEND;TZID=America/Argentina/Buenos_Aires:20241022T090000
DTSTAMP:20241004T163243Z
URL:https://www.unne.edu.ar/agenda/eventos/octubre-urbano-eficiencia-energ
 etica-en-la-vivienda/
SUMMARY:Octubre Urbano: Eficiencia energética en la vivienda
DESCRIPTION:Lugar: Facultad de Ingeniería - Aula 13\nOrganiza: Ing. Hugo Z
 urlo (Docente de la Facultad de Arquitectura)\nDestinatarios: Estudiantes 
 de la CEA y público en general\n\nActividades teóricas y prácticas en l
 a clase de Educación Ambiental\n\n&nbsp\;\n\nComo todos los años\, la UN
 NE se adhiere al “Octubre Urbano 2024” implementado por Naciones Unida
 s-Hábitat\, realizando actividades durante todo el mes a través de las F
 acultades y Centros\; coordinado por la CoDeSTE y el CeGAE.\n\nEl lema de 
 este año es “Una ciudad mejor\, una vida mejor”\, y estará vinculado
  a las economías urbanas resilientes: las ciudades como motores del creci
 miento y la recuperación y\, a involucrar a los jóvenes para crear un me
 jor futuro urbano\, apuntando a formar a la juventud para liderar la acci
 ón climática y local para las ciudades.\n\nDestinatarios/as: Comunidad d
 e la UNNE y Público General\nContacto: cegae@unne.edu.ar\nredes sociales
 : IG: @cegaeunne Facebook: Cegae Unne
ATTACH;FMTTYPE=image/jpeg:https://www.unne.edu.ar/wp-content/uploads/Octub
 reUrbano.jpg
LOCATION:http://www.unne.edu.ar/wp-content/uploads/programa_OU-2024.pdf
END:VEVENT
BEGIN:VTIMEZONE
TZID:America/Argentina/Buenos_Aires
X-LIC-LOCATION:America/Argentina/Buenos_Aires
BEGIN:STANDARD
DTSTART:20231023T090000
TZOFFSETFROM:-0300
TZOFFSETTO:-0300
TZNAME:-03
END:STANDARD
END:VTIMEZONE
END:VCALENDAR