BEGIN:VCALENDAR
VERSION:2.0
PRODID:-//wp-events-plugin.com//7.2.3.1//EN
TZID:America/Argentina/Buenos_Aires
X-WR-TIMEZONE:America/Argentina/Buenos_Aires
BEGIN:VEVENT
UID:1106@unne.edu.ar
DTSTART;TZID=America/Argentina/Buenos_Aires:20260213T080000
DTEND;TZID=America/Argentina/Buenos_Aires:20260213T120000
DTSTAMP:20260204T160941Z
URL:https://www.unne.edu.ar/agenda/eventos/posta-de-vacunacion-para-futuro
 s-ingresantes-corrientes-febrero-2026-2026-02-06-2026-02-09-2026-02-11-202
 6-02-13/
SUMMARY:Posta de Vacunación para futuros Ingresantes Corrientes Febrero 20
 26
DESCRIPTION:
ATTACH;FMTTYPE=image/jpeg:https://www.unne.edu.ar/wp-content/uploads/Posta
 Vacunacion2.0.png
CATEGORIES:Sec. Gral. de Asuntos Sociales
LOCATION:Ex Comedor UNNE\, Belgrano 1045\, Corrientes\, Corrientes\, 3400\,
  Argentina
X-APPLE-STRUCTURED-LOCATION;VALUE=URI;X-ADDRESS=Belgrano 1045\, Corrientes\
 , Corrientes\, 3400\, Argentina;X-APPLE-RADIUS=100;X-TITLE=Ex Comedor UNNE
 :geo:0,0
END:VEVENT
BEGIN:VTIMEZONE
TZID:America/Argentina/Buenos_Aires
X-LIC-LOCATION:America/Argentina/Buenos_Aires
BEGIN:STANDARD
DTSTART:20250213T080000
TZOFFSETFROM:-0300
TZOFFSETTO:-0300
TZNAME:-03
END:STANDARD
END:VTIMEZONE
END:VCALENDAR