BEGIN:VCALENDAR
VERSION:2.0
PRODID:-//wp-events-plugin.com//7.2.3.1//EN
TZID:America/Argentina/Buenos_Aires
X-WR-TIMEZONE:America/Argentina/Buenos_Aires
BEGIN:VEVENT
UID:1009@unne.edu.ar
DTSTART;TZID=America/Argentina/Buenos_Aires:20251203T080000
DTEND;TZID=America/Argentina/Buenos_Aires:20251203T120000
DTSTAMP:20251111T140220Z
URL:https://www.unne.edu.ar/agenda/eventos/postas-de-vacunacion-para-futur
 os-ingresantes-corrientes-2025-12-03/
SUMMARY:Posta de Vacunación para futuros Ingresantes Corrientes
DESCRIPTION:
ATTACH;FMTTYPE=image/jpeg:https://www.unne.edu.ar/wp-content/uploads/Posta
 DeVacunacion.jpeg
CATEGORIES:Sec. Gral. de Asuntos Sociales
LOCATION:Ex Comedor UNNE\, Belgrano 1045\, Corrientes\, Corrientes\, 3400\,
  Argentina
X-APPLE-STRUCTURED-LOCATION;VALUE=URI;X-ADDRESS=Belgrano 1045\, Corrientes\
 , Corrientes\, 3400\, Argentina;X-APPLE-RADIUS=100;X-TITLE=Ex Comedor UNNE
 :geo:0,0
END:VEVENT
BEGIN:VTIMEZONE
TZID:America/Argentina/Buenos_Aires
X-LIC-LOCATION:America/Argentina/Buenos_Aires
BEGIN:STANDARD
DTSTART:20241203T080000
TZOFFSETFROM:-0300
TZOFFSETTO:-0300
TZNAME:-03
END:STANDARD
END:VTIMEZONE
END:VCALENDAR