BEGIN:VCALENDAR
VERSION:2.0
PRODID:-//wp-events-plugin.com//7.2.3.1//EN
TZID:America/Argentina/Buenos_Aires
X-WR-TIMEZONE:America/Argentina/Buenos_Aires
BEGIN:VEVENT
UID:1076@unne.edu.ar
DTSTART;TZID=America/Argentina/Buenos_Aires:20251209T110000
DTEND;TZID=America/Argentina/Buenos_Aires:20251209T110000
DTSTAMP:20251209T105135Z
URL:https://www.unne.edu.ar/agenda/eventos/premio-unne-a-la-alfabetizacion
 -a-docentes-de-nivel-primario-de-corrientes/
SUMMARY:“Premio UNNE a la Alfabetización” a docentes de nivel primario
  de Corrientes
DESCRIPTION:
CATEGORIES:Gestión UNNE
LOCATION:Rectorado - UNNE\, 25 de Mayo 868\, Corrientes\, Corrientes\, 3400
 \, Argentina
X-APPLE-STRUCTURED-LOCATION;VALUE=URI;X-ADDRESS=25 de Mayo 868\, Corrientes
 \, Corrientes\, 3400\, Argentina;X-APPLE-RADIUS=100;X-TITLE=Rectorado - UN
 NE:geo:0,0
END:VEVENT
BEGIN:VTIMEZONE
TZID:America/Argentina/Buenos_Aires
X-LIC-LOCATION:America/Argentina/Buenos_Aires
BEGIN:STANDARD
DTSTART:20241209T110000
TZOFFSETFROM:-0300
TZOFFSETTO:-0300
TZNAME:-03
END:STANDARD
END:VTIMEZONE
END:VCALENDAR