BEGIN:VCALENDAR
VERSION:2.0
PRODID:-//wp-events-plugin.com//7.2.3.1//EN
TZID:America/Argentina/Buenos_Aires
X-WR-TIMEZONE:America/Argentina/Buenos_Aires
BEGIN:VEVENT
UID:523@unne.edu.ar
DTSTART;TZID=America/Argentina/Buenos_Aires:20241111T200000
DTEND;TZID=America/Argentina/Buenos_Aires:20241111T200000
DTSTAMP:20241108T161624Z
URL:https://www.unne.edu.ar/agenda/eventos/presentacion-del-libro-gran-par
 que-ibera/
SUMMARY:Presentación del libro "Gran Parque Ibera"
DESCRIPTION:En el Museo de Ciencias Naturales\n\nEudene + Comité Iberá
ATTACH;FMTTYPE=image/jpeg:https://www.unne.edu.ar/wp-content/uploads/GranP
 arqueIbera.jpeg
CATEGORIES:Coordinación de Comunicación
END:VEVENT
BEGIN:VTIMEZONE
TZID:America/Argentina/Buenos_Aires
X-LIC-LOCATION:America/Argentina/Buenos_Aires
BEGIN:STANDARD
DTSTART:20231112T200000
TZOFFSETFROM:-0300
TZOFFSETTO:-0300
TZNAME:-03
END:STANDARD
END:VTIMEZONE
END:VCALENDAR