BEGIN:VCALENDAR
VERSION:2.0
PRODID:-//wp-events-plugin.com//7.2.3.1//EN
TZID:America/Argentina/Buenos_Aires
X-WR-TIMEZONE:America/Argentina/Buenos_Aires
BEGIN:VEVENT
UID:1048@unne.edu.ar
DTSTART;TZID=America/Argentina/Buenos_Aires:20251122T200000
DTEND;TZID=America/Argentina/Buenos_Aires:20251122T200000
DTSTAMP:20251118T123009Z
URL:https://www.unne.edu.ar/agenda/eventos/presentacion-del-libro-la-rebel
 ion-de-las-cautivas/
SUMMARY:Presentación del Libro "La Rebelión de las Santas Cautivas"
DESCRIPTION:
ATTACH;FMTTYPE=image/jpeg:https://www.unne.edu.ar/wp-content/uploads/LasCa
 utiva.jpeg
CATEGORIES:Coordinación de Comunicación
LOCATION:MECA Espacio Cultural\, España 1559\, Corrientes\, Corrientes\, 3
 400\, Argentina
X-APPLE-STRUCTURED-LOCATION;VALUE=URI;X-ADDRESS=España 1559\, Corrientes\,
  Corrientes\, 3400\, Argentina;X-APPLE-RADIUS=100;X-TITLE=MECA Espacio Cul
 tural:geo:0,0
END:VEVENT
BEGIN:VTIMEZONE
TZID:America/Argentina/Buenos_Aires
X-LIC-LOCATION:America/Argentina/Buenos_Aires
BEGIN:STANDARD
DTSTART:20241122T200000
TZOFFSETFROM:-0300
TZOFFSETTO:-0300
TZNAME:-03
END:STANDARD
END:VTIMEZONE
END:VCALENDAR