BEGIN:VCALENDAR
VERSION:2.0
PRODID:-//wp-events-plugin.com//7.2.3.1//EN
TZID:America/Argentina/Buenos_Aires
X-WR-TIMEZONE:America/Argentina/Buenos_Aires
BEGIN:VEVENT
UID:368@unne.edu.ar
DTSTART;TZID=America/Argentina/Buenos_Aires:20240612T190000
DTEND;TZID=America/Argentina/Buenos_Aires:20240612T200000
DTSTAMP:20240610T142633Z
URL:https://www.unne.edu.ar/agenda/eventos/presentacion-del-libro-latinoam
 erica-comienza-en-corrientes-de-martin-alvarenga/
SUMMARY:Presentación del Libro: Latinoamérica comienza en Corrientes de M
 artín Alvarenga
DESCRIPTION:Presentación a cargo de Rosalía Montenegro.\n\nHall del edifi
 cio de Rectorado.
ATTACH;FMTTYPE=image/jpeg:https://www.unne.edu.ar/wp-content/uploads/prese
 ntacion-libro.jpeg
CATEGORIES:Coordinación de Comunicación
LOCATION:Rectorado - UNNE\, 25 de Mayo 868\, Corrientes\, Corrientes\, 3400
 \, Argentina
X-APPLE-STRUCTURED-LOCATION;VALUE=URI;X-ADDRESS=25 de Mayo 868\, Corrientes
 \, Corrientes\, 3400\, Argentina;X-APPLE-RADIUS=100;X-TITLE=Rectorado - UN
 NE:geo:0,0
END:VEVENT
BEGIN:VTIMEZONE
TZID:America/Argentina/Buenos_Aires
X-LIC-LOCATION:America/Argentina/Buenos_Aires
BEGIN:STANDARD
DTSTART:20230613T190000
TZOFFSETFROM:-0300
TZOFFSETTO:-0300
TZNAME:-03
END:STANDARD
END:VTIMEZONE
END:VCALENDAR