BEGIN:VCALENDAR
VERSION:2.0
PRODID:-//wp-events-plugin.com//7.2.3.1//EN
TZID:America/Argentina/Buenos_Aires
X-WR-TIMEZONE:America/Argentina/Buenos_Aires
BEGIN:VEVENT
UID:1139@unne.edu.ar
DTSTART;TZID=America/Argentina/Buenos_Aires:20260318T180000
DTEND;TZID=America/Argentina/Buenos_Aires:20260318T180000
DTSTAMP:20260318T125646Z
URL:https://www.unne.edu.ar/agenda/eventos/primer-conversatorio-sobre-los-
 juicios-de-lesa-humanidad-en-corrientes-a-50-anos-del-golpe/
SUMMARY:Primer conversatorio sobre los Juicios de Lesa Humanidad en Corrien
 tes a 50 años del Golpe
DESCRIPTION:
ATTACH;FMTTYPE=image/jpeg:https://www.unne.edu.ar/wp-content/uploads/Prime
 r-conversatorio-sobre-los-Juicios-de-Lesa-Humanidad-en-Corrientes.jpeg
CATEGORIES:Facultad de Derecho y Ciencias Sociales y Políticas
LOCATION:Edificio Histórico - Facultad de Derecho y Ciencias Sociales y Po
 líticas\, Salta 459\, Corrientes\, Corrientes\, 3400\, Argentina
X-APPLE-STRUCTURED-LOCATION;VALUE=URI;X-ADDRESS=Salta 459\, Corrientes\, Co
 rrientes\, 3400\, Argentina;X-APPLE-RADIUS=100;X-TITLE=Edificio Histórico
  - Facultad de Derecho y Ciencias Sociales y Políticas:geo:0,0
END:VEVENT
BEGIN:VTIMEZONE
TZID:America/Argentina/Buenos_Aires
X-LIC-LOCATION:America/Argentina/Buenos_Aires
BEGIN:STANDARD
DTSTART:20250318T180000
TZOFFSETFROM:-0300
TZOFFSETTO:-0300
TZNAME:-03
END:STANDARD
END:VTIMEZONE
END:VCALENDAR