BEGIN:VCALENDAR
VERSION:2.0
PRODID:-//wp-events-plugin.com//7.2.3.1//EN
TZID:America/Argentina/Buenos_Aires
X-WR-TIMEZONE:America/Argentina/Buenos_Aires
BEGIN:VEVENT
UID:834@unne.edu.ar
DTSTART;TZID=America/Argentina/Buenos_Aires:20250612T090000
DTEND;TZID=America/Argentina/Buenos_Aires:20250612T160000
DTSTAMP:20250609T130957Z
URL:https://www.unne.edu.ar/agenda/eventos/primera-jornada-provincial-sobr
 e-manejo-de-especies-exoticas-invasoras-de-corrientes/
SUMMARY:Primera Jornada Provincial sobre manejo de especies exóticas invas
 oras de Corrientes
DESCRIPTION:La Universidad Nacional del Nordeste organiza la Primera Jornad
 a Provincial «Sugerencias prácticas para la elaboración de propuestas d
 e manejo de especies exóticas invasoras de Corrientes». La misma\, tendr
 á lugar el próximo jueves 12 de junio\, y está destinada a  personal t
 écnico de municipios de Corrientes\, asesores legislativos\, legisladores
  y concejales de la región.\n\nLa actividad es gratuita\, organizada por 
 la Coordinación de Centros Regionales y Extensiones Áulicas en colaborac
 ión con la Facultad de Ciencias Exactas\, Naturales y Agrimensura de la U
 NNE y la Subsecretaría de Asuntos de Estado del Gobierno de la Provincia 
 de Corrientes.\n\nCon la propuesta se busca así brindar un marco general 
 de conocimiento sobre las especies exóticas invasoras\, con un enfoque en
  medidas de manejo prácticas para abordar las especies más problemática
 s en cada municipio de Corrientes.\n\nSe desarrollará en el Salón de Uso
 s Múltiples del Ministerio de Coordinación y Planificación de Corriente
 s\, en calle 25 de Mayo nº 1041\, primer piso\; de 9 a 15 hs.\n\nLas pers
 onas interesadas podrán inscribirse\, hasta el 6 de junio\, completando e
 l siguiente formulario: https://forms.gle/U8Xw6E61WzeSKv2J6.\n\nPara más
  información: coordinacionterritorial@unne.edu.ar.
ATTACH;FMTTYPE=image/jpeg:https://www.unne.edu.ar/wp-content/uploads/jorna
 da-sugerencia-practicas.jpeg
LOCATION:https://forms.gle/U8Xw6E61WzeSKv2J6
END:VEVENT
BEGIN:VTIMEZONE
TZID:America/Argentina/Buenos_Aires
X-LIC-LOCATION:America/Argentina/Buenos_Aires
BEGIN:STANDARD
DTSTART:20240612T090000
TZOFFSETFROM:-0300
TZOFFSETTO:-0300
TZNAME:-03
END:STANDARD
END:VTIMEZONE
END:VCALENDAR