BEGIN:VCALENDAR
VERSION:2.0
PRODID:-//wp-events-plugin.com//7.2.3.1//EN
TZID:America/Argentina/Buenos_Aires
X-WR-TIMEZONE:America/Argentina/Buenos_Aires
BEGIN:VEVENT
UID:1140@unne.edu.ar
DTSTART;TZID=America/Argentina/Buenos_Aires:20260325T090000
DTEND;TZID=America/Argentina/Buenos_Aires:20260325T090000
DTSTAMP:20260319T133331Z
URL:https://www.unne.edu.ar/agenda/eventos/proyecto-de-reparacion-y-restit
 ucion-a-familiares-de-los-legajos-de-estudiantes-docentes-y-no-docentes-vi
 ctimas-de-la-ultima-dictadura-civico-militar/
SUMMARY:Proyecto de reparación y restitución a familiares de los legajos 
 de estudiantes\, docentes y no docentes víctimas de la última Dictadura 
 Cívico Militar
DESCRIPTION:1976-2026 50 años por la memoria. la verdad y la justicia. Nun
 ca más.\n\nSe invita a la conferencia de prensa que se realizará con mot
 ivo de presentar el Proyecto de reparación y restitución a familiares de
  los legajos de estudiantes\, docentes y no docentes víctimas de la últi
 ma Dictadura Cívico Militar el próximo miércoles 25 de marzo a las 9 ho
 ras\, en la sala de Consejo Superior del Rectorado.\n\n&nbsp\;
CATEGORIES:Gestión UNNE
LOCATION:Rectorado - UNNE\, 25 de Mayo 868\, Corrientes\, Corrientes\, 3400
 \, Argentina
X-APPLE-STRUCTURED-LOCATION;VALUE=URI;X-ADDRESS=25 de Mayo 868\, Corrientes
 \, Corrientes\, 3400\, Argentina;X-APPLE-RADIUS=100;X-TITLE=Rectorado - UN
 NE:geo:0,0
END:VEVENT
BEGIN:VTIMEZONE
TZID:America/Argentina/Buenos_Aires
X-LIC-LOCATION:America/Argentina/Buenos_Aires
BEGIN:STANDARD
DTSTART:20250325T090000
TZOFFSETFROM:-0300
TZOFFSETTO:-0300
TZNAME:-03
END:STANDARD
END:VTIMEZONE
END:VCALENDAR