BEGIN:VCALENDAR
VERSION:2.0
PRODID:-//wp-events-plugin.com//7.2.3.1//EN
TZID:America/Argentina/Buenos_Aires
X-WR-TIMEZONE:America/Argentina/Buenos_Aires
BEGIN:VEVENT
UID:909@unne.edu.ar
DTSTART;TZID=America/Argentina/Buenos_Aires;VALUE=DATE:20250908
DTEND;TZID=America/Argentina/Buenos_Aires;VALUE=DATE:20250913
DTSTAMP:20250827T121230Z
URL:https://www.unne.edu.ar/agenda/eventos/reunion-anual-del-consejo-de-re
 ctores-de-aula-cavila/
SUMMARY:Reunión Anual del Consejo de Rectores de AULA CAVILA
DESCRIPTION:Del 8 al 12 de septiembre\, coincidiendo con el 3° Congreso de
  Educación y Tecnologías del Mercosur\, organizado por la Universidad Na
 cional del Nordeste\, se celebrará en Corrientes (Argentina) la Reunión 
 Anual del Consejo de Rectores de AULA CAVILA.\n\n&nbsp\;
ATTACH;FMTTYPE=image/jpeg:https://www.unne.edu.ar/wp-content/uploads/LOGO-
 CAVILA-mediano-2020-10.png
CATEGORIES:Gestión UNNE
LOCATION:https://virtual.unne.edu.ar/SIED-UV/3-edutic-mercosur
END:VEVENT
BEGIN:VTIMEZONE
TZID:America/Argentina/Buenos_Aires
X-LIC-LOCATION:America/Argentina/Buenos_Aires
BEGIN:STANDARD
DTSTART:20240908T000000
TZOFFSETFROM:-0300
TZOFFSETTO:-0300
TZNAME:-03
END:STANDARD
END:VTIMEZONE
END:VCALENDAR