BEGIN:VCALENDAR
VERSION:2.0
PRODID:-//wp-events-plugin.com//7.2.3.1//EN
TZID:America/Argentina/Buenos_Aires
X-WR-TIMEZONE:America/Argentina/Buenos_Aires
BEGIN:VEVENT
UID:357@unne.edu.ar
DTSTART;TZID=America/Argentina/Buenos_Aires;VALUE=DATE:20240603
DTEND;TZID=America/Argentina/Buenos_Aires;VALUE=DATE:20240608
DTSTAMP:20240603T112857Z
URL:https://www.unne.edu.ar/agenda/eventos/semana-verde-de-la-unne/
SUMMARY:Semana Verde de la UNNE
DESCRIPTION:\n 	Programa Semana Verde »\n
ATTACH;FMTTYPE=image/jpeg:https://www.unne.edu.ar/wp-content/uploads/SV.-A
 .01.H.jpeg
END:VEVENT
BEGIN:VTIMEZONE
TZID:America/Argentina/Buenos_Aires
X-LIC-LOCATION:America/Argentina/Buenos_Aires
BEGIN:STANDARD
DTSTART:20230604T000000
TZOFFSETFROM:-0300
TZOFFSETTO:-0300
TZNAME:-03
END:STANDARD
END:VTIMEZONE
END:VCALENDAR