BEGIN:VCALENDAR
VERSION:2.0
PRODID:-//wp-events-plugin.com//7.2.3.1//EN
TZID:America/Argentina/Buenos_Aires
X-WR-TIMEZONE:America/Argentina/Buenos_Aires
BEGIN:VEVENT
UID:824@unne.edu.ar
DTSTART;TZID=America/Argentina/Buenos_Aires:20250602T080000
DTEND;TZID=America/Argentina/Buenos_Aires:20250607T120000
DTSTAMP:20250526T144355Z
URL:https://www.unne.edu.ar/agenda/eventos/semana-verde-unne-poner-fin-a-l
 a-contaminacion-plastica/
SUMMARY:Semana Verde UNNE "Poner fin a la contaminación plástica"
DESCRIPTION:Semana Verde – Actividades\, charlas\, talleres y experienci
 as para reflexionar\, aprender y actuar por un futuro más sustentable.\nL
 ema del Día Mundial del Medio Ambiente (ONU): "Poner fin a la contaminac
 ión plástica"\nCuándo:\nDesde el lunes 2 de junio a las 08:00 h\nHasta
  el sábado 7 de junio a las 12:00 h\nDestinatarios/as:\nToda la comunida
 d universitaria y el público en general\nContacto:\nMail: cegae@unne.edu
 .ar\nWhatsApp: 03624-915226\nInstagram: @cegae
ATTACH;FMTTYPE=image/jpeg:https://www.unne.edu.ar/wp-content/uploads/Seman
 aVerde2025.jpeg
CATEGORIES:Gestión UNNE
END:VEVENT
BEGIN:VTIMEZONE
TZID:America/Argentina/Buenos_Aires
X-LIC-LOCATION:America/Argentina/Buenos_Aires
BEGIN:STANDARD
DTSTART:20240602T080000
TZOFFSETFROM:-0300
TZOFFSETTO:-0300
TZNAME:-03
END:STANDARD
END:VTIMEZONE
END:VCALENDAR