BEGIN:VCALENDAR
VERSION:2.0
PRODID:-//wp-events-plugin.com//7.2.3.1//EN
TZID:America/Argentina/Buenos_Aires
X-WR-TIMEZONE:America/Argentina/Buenos_Aires
BEGIN:VEVENT
UID:536@unne.edu.ar
DTSTART;TZID=America/Argentina/Buenos_Aires:20241129T083000
DTEND;TZID=America/Argentina/Buenos_Aires:20241129T083000
DTSTAMP:20241127T152446Z
URL:https://www.unne.edu.ar/agenda/eventos/seminarios-doctorado-en-recurso
 s-naturales/
SUMMARY:Seminarios "Doctorado en Recursos Naturales"
DESCRIPTION:Segundo Seminario\n\n 	8:30 hs. - Ing. Ftal. Mario Gabriel Sac
 kser\n“Conocimientos\, usos y prácticas de manejo del recurso dendroene
 rgético entre colonos y guaraníes del área de influencia de Reserva de 
 Biosfera Yabotí (RBY)\, Misiones\, Argentina. Estudio con un enfoque inte
 rdisciplinario ambiental”\n 	9:10 hs. - Ing. Agr. Miqueas Nicolás San
 doval\n“Efecto del anegamiento sobre los mecanismos fisiológicos involu
 crados en el rendimiento y composición de granos en sorgo\, girasol y soj
 a”\n\n&nbsp\;\nTema: Segundo Seminario - Doctorado en Recursos Naturales
 \nEntrar Zoom Reunión\nhttps://us02web.zoom.us/j/87588346830?pwd=kDm4q86Y
 JxZg6akGxxPgtB26pdcKPR.1\nID de reunión: 875 8834 6830\nCódigo de acceso
 : 104555
LOCATION:https://us02web.zoom.us/j/87588346830?pwd=kDm4q86YJxZg6akGxxPgtB26
 pdcKPR.1
END:VEVENT
BEGIN:VTIMEZONE
TZID:America/Argentina/Buenos_Aires
X-LIC-LOCATION:America/Argentina/Buenos_Aires
BEGIN:STANDARD
DTSTART:20231130T083000
TZOFFSETFROM:-0300
TZOFFSETTO:-0300
TZNAME:-03
END:STANDARD
END:VTIMEZONE
END:VCALENDAR