BEGIN:VCALENDAR
VERSION:2.0
PRODID:-//wp-events-plugin.com//7.2.3.1//EN
TZID:America/Argentina/Buenos_Aires
X-WR-TIMEZONE:America/Argentina/Buenos_Aires
BEGIN:VEVENT
UID:825@unne.edu.ar
DTSTART;TZID=America/Argentina/Buenos_Aires:20250530T153000
DTEND;TZID=America/Argentina/Buenos_Aires:20250530T153000
DTSTAMP:20250527T131911Z
URL:https://www.unne.edu.ar/agenda/eventos/sentidos-y-practicas-en-torno-a
 l-trabajo-la-cultura-y-el-genero-en-chaco-y-corrientes/
SUMMARY:Sentidos y Prácticas en torno al Trabajo\, la Cultura y el Género
  en Chaco y Corrientes
DESCRIPTION:Panel de especialistas en trabajo no clásico.
ATTACH;FMTTYPE=image/jpeg:https://www.unne.edu.ar/wp-content/uploads/ECO_s
 entidos.jpeg
LOCATION:Campus "Sargento Cabral"\, Juan Bautista Cabral\, 2001\, Capital\
 , Corrientes\, 3400\, Argentina
X-APPLE-STRUCTURED-LOCATION;VALUE=URI;X-ADDRESS=Juan Bautista Cabral\, 200
 1\, Capital\, Corrientes\, 3400\, Argentina;X-APPLE-RADIUS=100;X-TITLE=Cam
 pus \"Sargento Cabral\":geo:0,0
END:VEVENT
BEGIN:VTIMEZONE
TZID:America/Argentina/Buenos_Aires
X-LIC-LOCATION:America/Argentina/Buenos_Aires
BEGIN:STANDARD
DTSTART:20240530T153000
TZOFFSETFROM:-0300
TZOFFSETTO:-0300
TZNAME:-03
END:STANDARD
END:VTIMEZONE
END:VCALENDAR