BEGIN:VCALENDAR
VERSION:2.0
PRODID:-//wp-events-plugin.com//7.2.3.1//EN
TZID:America/Argentina/Buenos_Aires
X-WR-TIMEZONE:America/Argentina/Buenos_Aires
BEGIN:VEVENT
UID:428@unne.edu.ar
DTSTART;TZID=America/Argentina/Buenos_Aires:20240917T150000
DTEND;TZID=America/Argentina/Buenos_Aires:20240917T173000
DTSTAMP:20240917T123428Z
URL:https://www.unne.edu.ar/agenda/eventos/taller-accion-y-expresion-encue
 ntro-vivencial-grupal-de-comunicacion-asertiva-para-mejorar-el-rendimiento
 -academico/
SUMMARY:Taller "Acción y Expresión" encuentro vivencial grupal de Comunic
 ación Asertiva para mejorar el rendimiento académico
DESCRIPTION:Desde la Dirección de Políticas de Género y Diversidad Sexua
 l\, el CCU y el Programa Acción Salud extendemos la invitación al taller
  Acción y Expresión encuentro vivencial grupal de Comunicación Asertiva
  para mejorar el rendimiento académico\n\n📚Destinado a estudiantes de 
 la UNNE\n\n🗓️ Fecha de inicio: 17 de septiembre.\n✔️ Ocho encuent
 ros\, los días martes\n🕛 15:00 a 17:30 horas\n\n📍Lugar\n- Campus Ca
 bral: salón Biblioteca de la Facultad de Medicina\n- Campus Libertad-Roca
 : Comedor Universitario\n- Campus Resistencia: Salón Elizondo - Secretar
 ía de Extensión Universitaria\n👉 Los talleres de dictan de manera sim
 ultánea en las tres sedes\n\n🔗 Inscripción: https://forms.gle/pnL2Ptu
 TEbW4GvPB6\n\nMás info: direccion.pgyds@unne.edu.ar
ATTACH;FMTTYPE=image/jpeg:https://www.unne.edu.ar/wp-content/uploads/micro
 encuentros.jpeg
CATEGORIES:Gestión UNNE
LOCATION:https://forms.gle/pnL2PtuTEbW4GvPB6
END:VEVENT
BEGIN:VTIMEZONE
TZID:America/Argentina/Buenos_Aires
X-LIC-LOCATION:America/Argentina/Buenos_Aires
BEGIN:STANDARD
DTSTART:20230918T150000
TZOFFSETFROM:-0300
TZOFFSETTO:-0300
TZNAME:-03
END:STANDARD
END:VTIMEZONE
END:VCALENDAR