BEGIN:VCALENDAR
VERSION:2.0
PRODID:-//wp-events-plugin.com//7.2.3.1//EN
TZID:America/Argentina/Buenos_Aires
X-WR-TIMEZONE:America/Argentina/Buenos_Aires
BEGIN:VEVENT
UID:753@unne.edu.ar
DTSTART;TZID=America/Argentina/Buenos_Aires:20250318T203000
DTEND;TZID=America/Argentina/Buenos_Aires:20250318T220000
DTSTAMP:20250317T130019Z
URL:https://www.unne.edu.ar/agenda/eventos/taller-de-danzas-a-cargo-de-jor
 ge-vega/
SUMMARY:Taller de danzas a cargo de Jorge Vega
DESCRIPTION:Dónde: Salón Azul . Centro Cultural Universitario (Córdoba 7
 94)\nCuando: Martes y viernes de 20:30 a 22hs.  Arranca martes 18 de mar
 zo\nRequisitos: Gratuito para estudiantes de la Unne\n\n&nbsp\;\nDestinat
 arios: Estudiantes universitarios\, no docentes\, publico en general\nCon
 tacto: @ccu.unne \, https://www.unne.edu.ar/extension/ccu
ATTACH;FMTTYPE=image/jpeg:https://www.unne.edu.ar/wp-content/uploads/danza
 .jpg
CATEGORIES:Sec. Gral. de Extensión Universitaria
LOCATION:Centro Cultural Universitario\, Córdoba 798\, Capital\, Corriente
 s\, 3400\, Argentina
X-APPLE-STRUCTURED-LOCATION;VALUE=URI;X-ADDRESS=Córdoba 798\, Capital\, Co
 rrientes\, 3400\, Argentina;X-APPLE-RADIUS=100;X-TITLE=Centro Cultural Uni
 versitario:geo:0,0
END:VEVENT
BEGIN:VTIMEZONE
TZID:America/Argentina/Buenos_Aires
X-LIC-LOCATION:America/Argentina/Buenos_Aires
BEGIN:STANDARD
DTSTART:20240318T203000
TZOFFSETFROM:-0300
TZOFFSETTO:-0300
TZNAME:-03
END:STANDARD
END:VTIMEZONE
END:VCALENDAR