BEGIN:VCALENDAR
VERSION:2.0
PRODID:-//wp-events-plugin.com//7.2.3.1//EN
TZID:America/Argentina/Buenos_Aires
X-WR-TIMEZONE:America/Argentina/Buenos_Aires
BEGIN:VEVENT
UID:746@unne.edu.ar
DTSTART;TZID=America/Argentina/Buenos_Aires:20250317T150000
DTEND;TZID=America/Argentina/Buenos_Aires:20250317T170000
DTSTAMP:20250317T112617Z
URL:https://www.unne.edu.ar/agenda/eventos/taller-de-escritura-poetica-koe
 yu/
SUMMARY:Taller de escritura poética Koeyu
DESCRIPTION:Dónde: Salón E. Centro Cultural Universitario (Córdoba 794)
 \nCuando: lunes de 15 a 17hs . Arranca lunes 17 de marzo\nRequisitos: Gr
 atuito para estudiantes de la Unne\n\n&nbsp\;\nDestinatarios: Estudiantes
  universitarios\, no docentes\, publico en general\nContacto: @ccu.unne \,
  https://www.unne.edu.ar/extension/ccu
ATTACH;FMTTYPE=image/jpeg:https://www.unne.edu.ar/wp-content/uploads/koeyu
 .jpg
CATEGORIES:Sec. Gral. de Extensión Universitaria
LOCATION:Centro Cultural Universitario\, Córdoba 798\, Capital\, Corriente
 s\, 3400\, Argentina
X-APPLE-STRUCTURED-LOCATION;VALUE=URI;X-ADDRESS=Córdoba 798\, Capital\, Co
 rrientes\, 3400\, Argentina;X-APPLE-RADIUS=100;X-TITLE=Centro Cultural Uni
 versitario:geo:0,0
END:VEVENT
BEGIN:VTIMEZONE
TZID:America/Argentina/Buenos_Aires
X-LIC-LOCATION:America/Argentina/Buenos_Aires
BEGIN:STANDARD
DTSTART:20240317T150000
TZOFFSETFROM:-0300
TZOFFSETTO:-0300
TZNAME:-03
END:STANDARD
END:VTIMEZONE
END:VCALENDAR