BEGIN:VCALENDAR
VERSION:2.0
PRODID:-//wp-events-plugin.com//7.2.3.1//EN
TZID:America/Argentina/Buenos_Aires
X-WR-TIMEZONE:America/Argentina/Buenos_Aires
BEGIN:VEVENT
UID:1050@unne.edu.ar
DTSTART;TZID=America/Argentina/Buenos_Aires:20251125T180000
DTEND;TZID=America/Argentina/Buenos_Aires:20251125T180000
DTSTAMP:20251118T122843Z
URL:https://www.unne.edu.ar/agenda/eventos/taller-de-sensibilizacion-sobre
 -equidad-de-genero-en-el-ambito-de-la-construccion/
SUMMARY:Taller de sensibilización sobre Equidad de Género en el Ámbito d
 e la construcción
DESCRIPTION:A cargo de Arq. Lautaro Caceres Forastier\n\nFecha: Martes 25 d
 e noviembre\nHorario: 18 hs\nLugar: Aula 3 - Facultad de Arquitectura y Ur
 banismo
LOCATION:Campus Resistencia\, Av. Las Heras 727\, Resistencia\, Chaco\, 350
 0\, Argentina
X-APPLE-STRUCTURED-LOCATION;VALUE=URI;X-ADDRESS=Av. Las Heras 727\, Resiste
 ncia\, Chaco\, 3500\, Argentina;X-APPLE-RADIUS=100;X-TITLE=Campus Resisten
 cia:geo:0,0
END:VEVENT
BEGIN:VTIMEZONE
TZID:America/Argentina/Buenos_Aires
X-LIC-LOCATION:America/Argentina/Buenos_Aires
BEGIN:STANDARD
DTSTART:20241125T180000
TZOFFSETFROM:-0300
TZOFFSETTO:-0300
TZNAME:-03
END:STANDARD
END:VTIMEZONE
END:VCALENDAR