BEGIN:VCALENDAR
VERSION:2.0
PRODID:-//wp-events-plugin.com//7.2.3.1//EN
TZID:America/Argentina/Buenos_Aires
X-WR-TIMEZONE:America/Argentina/Buenos_Aires
BEGIN:VEVENT
UID:754@unne.edu.ar
DTSTART;TZID=America/Argentina/Buenos_Aires:20250320T170000
DTEND;TZID=America/Argentina/Buenos_Aires:20250320T190000
DTSTAMP:20250317T131618Z
URL:https://www.unne.edu.ar/agenda/eventos/taller-teatro-el-alboroto-a-car
 go-de-laura-virgile/
SUMMARY:Taller Teatro “El alboroto” a cargo de Laura Virgile
DESCRIPTION:Dónde: Salón Azul . Centro Cultural Universitario (Córdoba 
 794)\nCuando: jueves de 17 a 19hs.  Arranca jueves 20 de marzo\nRequisit
 os: Gratuito para estudiantes de la Unne\n\n&nbsp\;\nDestinatarios: Estu
 diantes universitarios\, no docentes\, publico en general\nContacto: @ccu.
 unne \, https://www.unne.edu.ar/extension/ccu
ATTACH;FMTTYPE=image/jpeg:https://www.unne.edu.ar/wp-content/uploads/teatr
 o.jpg
CATEGORIES:Sec. Gral. de Extensión Universitaria
LOCATION:Centro Cultural Universitario\, Córdoba 798\, Capital\, Corriente
 s\, 3400\, Argentina
X-APPLE-STRUCTURED-LOCATION;VALUE=URI;X-ADDRESS=Córdoba 798\, Capital\, Co
 rrientes\, 3400\, Argentina;X-APPLE-RADIUS=100;X-TITLE=Centro Cultural Uni
 versitario:geo:0,0
END:VEVENT
BEGIN:VTIMEZONE
TZID:America/Argentina/Buenos_Aires
X-LIC-LOCATION:America/Argentina/Buenos_Aires
BEGIN:STANDARD
DTSTART:20240320T170000
TZOFFSETFROM:-0300
TZOFFSETTO:-0300
TZNAME:-03
END:STANDARD
END:VTIMEZONE
END:VCALENDAR