BEGIN:VCALENDAR
VERSION:2.0
PRODID:-//wp-events-plugin.com//7.2.3.1//EN
TZID:America/Argentina/Buenos_Aires
X-WR-TIMEZONE:America/Argentina/Buenos_Aires
BEGIN:VEVENT
UID:768@unne.edu.ar
DTSTART;TZID=America/Argentina/Buenos_Aires;VALUE=DATE:20250407
DTEND;TZID=America/Argentina/Buenos_Aires;VALUE=DATE:20250408
DTSTAMP:20250404T152518Z
URL:https://www.unne.edu.ar/agenda/eventos/talleres-anuales-2025-en-el-ccn
 -2/
SUMMARY:Talleres Anuales 2025 en el CCN
DESCRIPTION:A partir de conocimientos y herramientas validadas en la práct
 ica profesional se espera capacitar a los alumnos y que puedan llevar adel
 ante diferentes tipos de proyectos\, según la especificidad\, y aportar a
  quienes trabajan actualmente en el área de desarrollo regional\, naciona
 l e internacional.\nEn todos los casos el dictado se organizará de acuerd
 o a la demanda y los requerimientos de las vinculaciones que el CCN y la U
 NNE sostengan con el medio.\nPara dar continuidad a el objetivo principal 
 del Centro Cultural Nordeste de la UNNE\, los talleres pretenden “Promov
 er el acceso a la cultura desde propuestas artísticas y culturales orient
 adas a la formación\, capacitación profesional y experimentación artís
 tica”.\nSerán dictados de Abril a Noviembre.\nLos talleres a dictar son
 : \n\n\n 	\nTaller Guitarra y Ukelele - Prof. Demian Pinto\nNiños desde 1
 0 años\nLunes 19:00hs a 21:00hs\n\n 	\nTaller de Batería y Percusión Pr
 of. Carlos Fritz\nNiños desde 7 años\nMartes 18:00hs a 19:00hs\n\n 	\nTa
 ller de Batería y Percusión Adultos - Prof. Carlos Fritz\nMartes 19:00hs
  a 21:00 hs\n(inicial\, medio y avanzado)\n\n 	\nTaller de Canto y vocaliz
 ación - Lic. María Rosa Alcaraz\nMiércoles 10:00hs a 12:00hs y Viernes 
 17:00hs a 19:00hs\nMayores de 16 años.\n\n 	\nArte: diseño\, exploració
 n y transformación de materiales - Prof. Gustavo Mendoza\nLunes y miérco
 les de 18:00hs a 20:00hs\nMayores de 16 años.\n\n 	Taller de Dibujo y Pin
 tura - Prof. Verónica Almirón\nJueves y viernes 9:00hs a 12:00hs\nMayore
 s de 16 años.\n 	\nTaller de Novela Prof. José Mazzaro\nMartes 20:00hs a
  21:00 hs\nMayores de 16 años.\n\n 	\nTaller de Poesía - Prof. Lucas Sam
 por\nMiércoles 20:00hs a 21:00hs\nMayores de 16 años\n\n 	\nTaller de Cu
 ento - Prof. Mario Doldán\nViernes 20:00hs a 21:30hs\nMayores de 16 años
 \n\n 	\nLaboratorio en Artes Escénicas (Actividad Trimestral) - Prof. Mó
 nica Molina\nLunes 19:00hs a 21:30hs\nMayores de 16 años\n\n 	\nTeatro Fo
 rmación Actoral - Prof. Guadalupe Nera\nMiércoles y Jueves 18:30 a 20:30
 \nMayores de 16 años\n\n 	\nTaller de Tango Prof. Milena Vera\nLunes 18:0
 0hs a 20:00hs\nMayores de 16 años\n\n 	\nTaller de Folklore - Prof. Milen
 a Vera\nMiércoles 18:00hs a 20:00hs\nMayores de 16 años\n\n 	\nTaller Hi
 p-Hop- Prof. Guillermo Fernández - Prof. Daiana Ortiz\nViernes 18:00hs a 
 21:00hs\nMayores de 16 años\n\n\nDestinatarios: Interesados y Público en
  general.\nLugar: Centro Cultural Nordeste\nDirección: Arturo Illia 355
ATTACH;FMTTYPE=image/jpeg:https://www.unne.edu.ar/wp-content/uploads/Talle
 resCCN.jpg
CATEGORIES:Sec. Gral. de Extensión Universitaria
LOCATION:Centro Cultural Nordeste\, Arturo Illia 355\, Resistencia\, Chaco\
 , 3500\, Argentina
X-APPLE-STRUCTURED-LOCATION;VALUE=URI;X-ADDRESS=Arturo Illia 355\, Resisten
 cia\, Chaco\, 3500\, Argentina;X-APPLE-RADIUS=100;X-TITLE=Centro Cultural 
 Nordeste:geo:0,0
END:VEVENT
BEGIN:VTIMEZONE
TZID:America/Argentina/Buenos_Aires
X-LIC-LOCATION:America/Argentina/Buenos_Aires
BEGIN:STANDARD
DTSTART:20240407T000000
TZOFFSETFROM:-0300
TZOFFSETTO:-0300
TZNAME:-03
END:STANDARD
END:VTIMEZONE
END:VCALENDAR