BEGIN:VCALENDAR
VERSION:2.0
PRODID:-//wp-events-plugin.com//7.2.3.1//EN
TZID:America/Argentina/Buenos_Aires
X-WR-TIMEZONE:America/Argentina/Buenos_Aires
BEGIN:VEVENT
UID:601@unne.edu.ar
DTSTART;TZID=America/Argentina/Buenos_Aires;VALUE=DATE:20250924
DTEND;TZID=America/Argentina/Buenos_Aires;VALUE=DATE:20250925
DTSTAMP:20250207T124550Z
URL:https://www.unne.edu.ar/agenda/eventos/virgen-de-la-merced-solo-para-c
 orrientes-2025-09-24/
SUMMARY:Virgen de la Merced (Solo para Corrientes)
DESCRIPTION:
CATEGORIES:Recesos, Feriados y Días no Laborables
END:VEVENT
BEGIN:VTIMEZONE
TZID:America/Argentina/Buenos_Aires
X-LIC-LOCATION:America/Argentina/Buenos_Aires
BEGIN:STANDARD
DTSTART:20240924T000000
TZOFFSETFROM:-0300
TZOFFSETTO:-0300
TZNAME:-03
END:STANDARD
END:VTIMEZONE
END:VCALENDAR