BEGIN:VCALENDAR
VERSION:2.0
PRODID:-//wp-events-plugin.com//7.2.3.1//EN
TZID:America/Argentina/Buenos_Aires
X-WR-TIMEZONE:America/Argentina/Buenos_Aires
BEGIN:VEVENT
UID:996@unne.edu.ar
DTSTART;TZID=America/Argentina/Buenos_Aires:20251110T080000
DTEND;TZID=America/Argentina/Buenos_Aires:20251114T120000
DTSTAMP:20251110T102859Z
URL:https://www.unne.edu.ar/agenda/eventos/visita-a-los-campus-con-nuestro
 -stand-de-issunne/
SUMMARY:Visita a los campus con nuestro stand de ISSUNNE
DESCRIPTION:Luego de visitar el Campus Sargento Cabral\, nuestro stand cont
 inuará su recorrido visitando el Campus Deodoro Roca.\n\nEl 3 de noviembr
 e iniciamos\, por segundo año consecutivo\, la visita a los campus univer
 sitarios con nuestro stand informativo. Este recorrido\, que tuvo como pun
 to de partida el Campus Sargento Cabral\, tiene como objetivo acercar a nu
 estros afiliados la posibilidad de informarse\, realizar consultas sobre t
 rámites\, conocer el uso de las plataformas digitales y participar de act
 ividades de prevención en salud.\n\nDurante la segunda semana\, del 10 al
  14 de noviembre\, entre las 8 y las 12 horas\, el stand se presentará en
  el Campus Deodoro Roca y\, en la semana siguiente\, visitará el Campus R
 esistencia.\n\nEn el stand\, nuestros afiliados podrán despejar sus dudas
  sobre trámites\, uso de formularios web\, instalación y uso de la APP
  ISSUNNE. Además\, podrán realizar autorizaciones de solicitudes de labo
 ratorios y estudios de diagnóstico por imágenes que no requieran auditor
 ía médica.\n\nDurante las jornadas también se desarrollarán actividade
 s de promoción y prevención en salud\, con espacios de información sobr
 e hábitos saludables\, controles preventivos y la importancia de los cheq
 ueos médicos periódicos.\n\nCon estas acciones\, desde ISSUNNE continuam
 os fortaleciendo el vínculo con nuestros afiliados\, acercando nuestros s
 ervicios y acompañándolos en el cuidado de su salud.
ATTACH;FMTTYPE=image/jpeg:https://www.unne.edu.ar/wp-content/uploads/09-St
 and-ISSUNNE-en-Deodoro-Roca-IG.00_00_35_15.Imagen-fija007-1024x768-1.jpg
CATEGORIES:ISSUNNE - Instituto de Servicios Sociales UNNE
LOCATION:https://www.instagram.com/reel/DQy6DrcFHxX/?utm_source=ig_web_copy
 _link&igsh=MzRlODBiNWFlZA==
END:VEVENT
BEGIN:VTIMEZONE
TZID:America/Argentina/Buenos_Aires
X-LIC-LOCATION:America/Argentina/Buenos_Aires
BEGIN:STANDARD
DTSTART:20241110T080000
TZOFFSETFROM:-0300
TZOFFSETTO:-0300
TZNAME:-03
END:STANDARD
END:VTIMEZONE
END:VCALENDAR