BEGIN:VCALENDAR
VERSION:2.0
PRODID:-//wp-events-plugin.com//7.2.3.1//EN
TZID:America/Argentina/Buenos_Aires
X-WR-TIMEZONE:America/Argentina/Buenos_Aires
BEGIN:VEVENT
UID:363@unne.edu.ar
DTSTART;TZID=America/Argentina/Buenos_Aires;VALUE=DATE:20240529
DTEND;TZID=America/Argentina/Buenos_Aires;VALUE=DATE:20240531
DTSTAMP:20240516T153736Z
URL:https://www.unne.edu.ar/agenda/eventos/vuelve-el-ciclo-%f0%9d%91%a8-%f
 0%9d%92%91%f0%9d%92%96%f0%9d%92%93%f0%9d%92%82-%f0%9d%92%8d%f0%9d%92%8a%f0
 %9d%92%95%f0%9d%92%86%f0%9d%92%93%f0%9d%92%82%f0%9d%92%95%f0%9d%92%96%f0%9
 d%92%93/
SUMMARY:Vuelve el ciclo “𝑨 𝒑𝒖𝒓𝒂 𝒍𝒊𝒕𝒆𝒓𝒂
 𝒕𝒖𝒓𝒂 𝒄𝒐𝒏 𝒆𝒍 𝑪𝑪𝑼”
DESCRIPTION:Un encuentro para presentar las producciones ganadoras del Prem
 io 𝑼𝑵𝑵𝑬 𝒑𝒂𝒓𝒂 𝒍𝒂𝒔 𝒍𝒆𝒕𝒓𝒂𝒔
  𝟐𝟎𝟐𝟑. Tendremos entrevistas\, mesas de lectura con escritores
  de Corrientes - Chaco y números artísticos.\n\nSerá el 29 y 30 de mayo
 \; y el 5 y 6 de Junio en la Secretaria de Posgrado de Derecho de la UNNE 
 (Salta 459).\n𝐄𝐧𝐭𝐫𝐚𝐝𝐚 𝐥𝐢𝐛𝐫𝐞 𝐲 𝐠
 𝐫𝐚𝐭𝐮𝐢𝐭𝐚.\n\nEl ciclo está coordinado por la escritor
 a y periodista María Laura Riba y el profesor del Taller Literario Queser
 raye Matías Carmagnola (CCU-UNNE)\, con la colaboración de Eve Bochle\, 
 profesora del Taller Literario Koeyu (CCU-UNNE).\n\n¡Te esperamos! 𝗲
 𝗻 𝗹𝗮 𝗦𝗲𝗰𝗿𝗲𝘁𝗮𝗿𝗶𝗮 𝗱𝗲 𝗣𝗼
 𝘀𝗴𝗿𝗮𝗱𝗼 𝗱𝗲 𝗗𝗲𝗿𝗲𝗰𝗵𝗼 𝗱𝗲 
 𝗹𝗮 𝗨𝗡𝗡𝗘 (𝗦𝗮𝗹𝘁𝗮 𝟰𝟱𝟵).\n\n&nbsp\;\
 n\n\n\n&nbsp\;
ATTACH;FMTTYPE=image/jpeg:https://www.unne.edu.ar/wp-content/uploads/A-Pur
 a-Literatura.jpeg
CATEGORIES:Sec. Gral. de Extensión Universitaria
END:VEVENT
BEGIN:VTIMEZONE
TZID:America/Argentina/Buenos_Aires
X-LIC-LOCATION:America/Argentina/Buenos_Aires
BEGIN:STANDARD
DTSTART:20230530T000000
TZOFFSETFROM:-0300
TZOFFSETTO:-0300
TZNAME:-03
END:STANDARD
END:VTIMEZONE
END:VCALENDAR